Workbook

Sheet HOME
A1: CONTENTS
A2: Position | B2: Candidates | C2: Location
A3: President of the Guild | B3: 5 | C3: OAK | D3: REID | E3: MOBILE | F3: OVERALL
A4: General Secretary | B4: 5 | C4: OAK | D4: REID | E4: MOBILE | F4: OVERALL
A5: Sports Representative | B5: 5 | C5: OAK | D5: REID | E5: MOBILE | F5: OVERALL
A6: President of Public Affairs | B6: 4 | C6: OAK | D6: REID | E6: MOBILE | F6: OVERALL
A7: President of Societies | B7: 4 | C7: OAK | D7: REID | E7: MOBILE | F7: OVERALL
A8: Wellbeing Officer | B8: 4 | C8: OAK | D8: REID | E8: MOBILE | F8: OVERALL
A9: Women’s Officer | B9: 4 | C9: OAK | D9: REID | E9: MOBILE | F9: OVERALL
A10: President of Education | B10: 4 | C10: OAK | D10: REID | E10: MOBILE | F10: OVERALL
A11: Environment Officer | B11: 4 | C11: OAK | D11: REID | E11: MOBILE | F11: OVERALL
A12: International Students Department President | B12: 3 | C12: OAK | D12: REID | E12: MOBILE | F12: OVERALL
A13: NUS National Union of Students | B13: 36 | C13: COUNTWA
A14: OGC Ordinary Guild Councillors | B14: 81 | C14: COUNTWA

Sheet President of the Guild - OAK
A1: PRESIDENT OF THE GUILD AND SENATE REPRESENTATIVE - OAK
A2: HOME
A3: Candidates | B3: TALLURI Nikhi (SPARK) | C3: SCOTT Danica (Social Justice) | D3: FLAVEL Lachy (LIFT) | E3: ALDERSLADE Luke (REVIVE) | F3: LAZAROO Chloe (AI Party) | G3: Exhausted | H3: Valid Votes | I3: Informal | J3: Total Votes
A4: 1st Prefs | B4: 507 | C4: 190 | D4: 128 | E4: 326 | F4: 62 | H4: =SUM(B4:G4) -> 1213 | I4: 122 | J4: =SUM(H4:I4) -> 1335 | L4: Absolute majority | M4: =H4/2 -> 606.5
A5: 1st Distribution | B5: 8 | C5: 1 | D5: 3 | E5: 6 | G5: 22 | H5: =SUM(B5:G5) -> 40
A6: Total | B6: 515 | C6: 191 | D6: 131 | E6: 332 | F6: =SUM(F3:F4) -> 62 | G6: =SUM(G4:G5) -> 22 | H6: =SUM(B6:G6) -> 1253 | I6: =I4 -> 122 | J6: =SUM(H6:I6) -> 1375
A7: 2nd Distribution | B7: 24 | C7: 4 | E7: 24 | G7: 76 | H7: =SUM(B7:G7) -> 128
A8: Total | B8: =SUM(B6:B7) -> 539 | C8: =SUM(C6:C7) -> 195 | D8: =SUM(D6:D7) -> 131 | E8: =SUM(E6:E7) -> 356 | F8: =SUM(F6:F7) -> 62 | G8: =SUM(G6:G7) -> 98 | H8: =SUM(B8:G8) -> 1381 | I8: =I4 -> 122 | J8: =SUM(H8:I8) -> 1503
A9: 3rd Distribution | B9: 47 | E9: 22 | G9: 121 | H9: =SUM(B9:G9) -> 190
A10: Total | B10: =SUM(B8:B9) -> 586 | C10: =SUM(C8:C9) -> 195 | D10: =SUM(D8:D9) -> 131 | E10: =SUM(E8:E9) -> 378 | F10: =SUM(F8:F9) -> 62 | G10: =SUM(G8:G9) -> 219 | H10: =SUM(B10:G10) -> 1571 | I10: =I4 -> 122 | J10: =SUM(H10:I10) -> 1693

Sheet President of the Guild - REID
A1: PRESIDENT OF THE GUILD AND SENATE REPRESENTATIVE - REID
A2: HOME
A3: Candidates | B3: TALLURI Nikhi (SPARK) | C3: SCOTT Danica (Social Justice) | D3: FLAVEL Lachy (LIFT) | E3: ALDERSLADE Luke (REVIVE) | F3: LAZAROO Chloe (AI Party) | G3: Exhausted | H3: Valid Votes | I3: Informal | J3: Total Votes
A4: 1st Prefs | B4: 717 | C4: 175 | D4: 149 | E4: 534 | F4: 52 | H4: =SUM(B4:G4) -> 1627 | I4: 96 | J4: =SUM(H4:I4) -> 1723 | L4: Absolute majority | M4: =H4/2 -> 813.5
A5: 1st Distribution | B5: 6 | C5: 3 | D5: 3 | E5: 17 | G5: 23 | H5: =SUM(B5:G5) -> 52
A6: Total | B6: =SUM(B4:B5) -> 723 | C6: =SUM(C4:C5) -> 178 | D6: =SUM(D4:D5) -> 152 | E6: =SUM(E4:E5) -> 551 | F6: =SUM(F4:F5) -> 52 | G6: =SUM(G4:G5) -> 23 | H6: =SUM(B6:G6) -> 1679 | I6: =I4 -> 96 | J6: =SUM(H6:I6) -> 1775
A7: 2nd Distribution | B7: 26 | C7: 4 | E7: 28 | G7: 91 | H7: =SUM(B7:G7) -> 149
A8: Total | B8: =SUM(B6:B7) -> 749 | C8: =SUM(C6:C7) -> 182 | D8: =SUM(D6:D7) -> 152 | E8: =SUM(E6:E7) -> 579 | F8: =SUM(F6:F7) -> 52 | G8: =SUM(G6:G7) -> 114 | H8: =SUM(B8:G8) -> 1828 | I8: =I4 -> 96 | J8: =SUM(H8:I8) -> 1924
A9: 3rd Distribution | B9: 36 | E9: 25 | G9: 114 | H9: =SUM(B9:G9) -> 175
A10: Total | B10: =SUM(B8:B9) -> 785 | C10: =SUM(C8:C9) -> 182 | D10: =SUM(D8:D9) -> 152 | E10: =SUM(E8:E9) -> 604 | F10: =SUM(F8:F9) -> 52 | G10: =SUM(G8:G9) -> 228 | H10: =SUM(B10:G10) -> 2003 | I10: =I4 -> 96 | J10: =SUM(H10:I10) -> 2099

Sheet President of the Guild - MOBILE
A1: PRESIDENT OF THE GUILD AND SENATE REPRESENTATIVE - MOBILE
A2: HOME
A3: Candidates | B3: TALLURI Nikhi (SPARK) | C3: SCOTT Danica (Social Justice) | D3: FLAVEL Lachy (LIFT) | E3: ALDERSLADE Luke (REVIVE) | F3: LAZAROO Chloe (AI Party) | G3: Exhausted | H3: Valid Votes | I3: Informal | J3: Total Votes
A4: 1st Prefs | B4: 98 | C4: 40 | D4: 29 | E4: 90 | F4: 8 | H4: =SUM(B4:G4) -> 265 | I4: 8 | J4: =SUM(H4:I4) -> 273 | L4: Absolute majority | M4: =H4/2 -> 132.5
A5: 1st Distribution | B5: 1 | C5: 1 | D5: 1 | E5: 2 | G5: 3 | H5: =SUM(B5:G5) -> 8
A6: Total | B6: =SUM(B4:B5) -> 99 | C6: =SUM(C4:C5) -> 41 | D6: =SUM(D4:D5) -> 30 | E6: =SUM(E4:E5) -> 92 | F6: =SUM(F4:F5) -> 8 | G6: =SUM(G4:G5) -> 3 | H6: =SUM(B6:G6) -> 273 | I6: =I4 -> 8 | J6: =SUM(H6:I6) -> 281
A7: 2nd Distribution | B7: 4 | C7: 1 | D7: 30 | E7: 5 | G7: 19 | H7: =SUM(B7:G7) -> 59
A8: Total | B8: =SUM(B6:B7) -> 103 | C8: =SUM(C6:C7) -> 42 | D8: =SUM(D6:D7) -> 60 | E8: =SUM(E6:E7) -> 97 | F8: =SUM(F6:F7) -> 8 | G8: =SUM(G6:G7) -> 22 | H8: =SUM(B8:G8) -> 332 | I8: =I4 -> 8 | J8: =SUM(H8:I8) -> 340
A9: 3rd Distribution | B9: 5 | E9: 6 | G9: 29 | H9: =SUM(B9:G9) -> 40
A10: Total | B10: =SUM(B8:B9) -> 108 | C10: =SUM(C8:C9) -> 42 | D10: =SUM(D8:D9) -> 60 | E10: =SUM(E8:E9) -> 103 | F10: =SUM(F8:F9) -> 8 | G10: =SUM(G8:G9) -> 51 | H10: =SUM(B10:G10) -> 372 | I10: =I4 -> 8 | J10: =SUM(H10:I10) -> 380

Sheet President - OVERALL
A1: PRESIDENT OF THE GUILD AND SENATE REPRESENTATIVE - OVERALL
A2: HOME
A3: Candidates | B3: TALLURI Nikhi (SPARK) | C3: SCOTT Danica (Social Justice) | D3: FLAVEL Lachy (LIFT) | E3: ALDERSLADE Luke (REVIVE) | F3: LAZAROO Chloe (AI Party) | G3: Exhausted | H3: Valid Votes | I3: Informal | J3: Total Votes
A4: 1st Prefs | B4: ='President of the Guild - OAK'!B4+'President of the Guild - REID'!B4+'President of the Guild - MOBILE'!B4 -> 1322 | C4: ='President of the Guild - OAK'!C4+'President of the Guild - REID'!C4+'President of the Guild - MOBILE'!C4 -> 405 | D4: ='President of the Guild - OAK'!D4+'President of the Guild - REID'!D4+'President of the Guild - MOBILE'!D4 -> 306 | E4: ='President of the Guild - OAK'!E4+'President of the Guild - REID'!E4+'President of the Guild - MOBILE'!E4 -> 950 | F4: ='President of the Guild - OAK'!F4+'President of the Guild - REID'!F4+'President of the Guild - MOBILE'!F4 -> 122 | G4: ='President of the Guild - OAK'!G4+'President of the Guild - REID'!G4+'President of the Guild - MOBILE'!G4 -> 0 | H4: =SUM(B4:G4) -> 3105 | I4: ='President of the Guild - OAK'!I4+'President of the Guild - REID'!I4+'President of the Guild - MOBILE'!I4 -> 226 | J4: =SUM(H4:I4) -> 3331 | L4: Absolute majority | M4: =H4/2 -> 1552.5
A5: 1st Distribution | B5: ='President of the Guild - OAK'!B5+'President of the Guild - REID'!B5+'President of the Guild - MOBILE'!B5 -> 15 | C5: ='President of the Guild - OAK'!C5+'President of the Guild - REID'!C5+'President of the Guild - MOBILE'!C5 -> 5 | D5: ='President of the Guild - OAK'!D5+'President of the Guild - REID'!D5+'President of the Guild - MOBILE'!D5 -> 7 | E5: ='President of the Guild - OAK'!E5+'President of the Guild - REID'!E5+'President of the Guild - MOBILE'!E5 -> 25 | F5: ='President of the Guild - OAK'!F5+'President of the Guild - REID'!F5+'President of the Guild - MOBILE'!F5 -> 0 | G5: ='President of the Guild - OAK'!G5+'President of the Guild - REID'!G5+'President of the Guild - MOBILE'!G5 -> 48 | H5: =SUM(B5:G5) -> 100
A6: Total | B6: ='President of the Guild - OAK'!B6+'President of the Guild - REID'!B6+'President of the Guild - MOBILE'!B6 -> 1337 | C6: ='President of the Guild - OAK'!C6+'President of the Guild - REID'!C6+'President of the Guild - MOBILE'!C6 -> 410 | D6: ='President of the Guild - OAK'!D6+'President of the Guild - REID'!D6+'President of the Guild - MOBILE'!D6 -> 313 | E6: ='President of the Guild - OAK'!E6+'President of the Guild - REID'!E6+'President of the Guild - MOBILE'!E6 -> 975 | F6: ='President of the Guild - OAK'!F6+'President of the Guild - REID'!F6+'President of the Guild - MOBILE'!F6 -> 122 | G6: ='President of the Guild - OAK'!G6+'President of the Guild - REID'!G6+'President of the Guild - MOBILE'!G6 -> 48 | H6: =SUM(B6:G6) -> 3205 | I6: =I4 -> 226 | J6: =SUM(H6:I6) -> 3431
A7: 2nd Distribution | B7: ='President of the Guild - OAK'!B7+'President of the Guild - REID'!B7+'President of the Guild - MOBILE'!B7 -> 54 | C7: ='President of the Guild - OAK'!C7+'President of the Guild - REID'!C7+'President of the Guild - MOBILE'!C7 -> 9 | D7: 0 | E7: ='President of the Guild - OAK'!E7+'President of the Guild - REID'!E7+'President of the Guild - MOBILE'!E7 -> 57 | F7: ='President of the Guild - OAK'!F7+'President of the Guild - REID'!F7+'President of the Guild - MOBILE'!F7 -> 0 | G7: ='President of the Guild - OAK'!G7+'President of the Guild - REID'!G7+'President of the Guild - MOBILE'!G7 -> 186 | H7: =SUM(B7:G7) -> 306
A8: Total | B8: ='President of the Guild - OAK'!B8+'President of the Guild - REID'!B8+'President of the Guild - MOBILE'!B8 -> 1391 | C8: ='President of the Guild - OAK'!C8+'President of the Guild - REID'!C8+'President of the Guild - MOBILE'!C8 -> 419 | D8: ='President of the Guild - OAK'!D8+'President of the Guild - REID'!D8+'President of the Guild - MOBILE'!D8 -> 343 | E8: ='President of the Guild - OAK'!E8+'President of the Guild - REID'!E8+'President of the Guild - MOBILE'!E8 -> 1032 | F8: ='President of the Guild - OAK'!F8+'President of the Guild - REID'!F8+'President of the Guild - MOBILE'!F8 -> 122 | G8: ='President of the Guild - OAK'!G8+'President of the Guild - REID'!G8+'President of the Guild - MOBILE'!G8 -> 234 | H8: =SUM(B8:G8) -> 3541 | I8: =I4 -> 226 | J8: =SUM(H8:I8) -> 3767
A9: 3rd Distribution | B9: ='President of the Guild - OAK'!B9+'President of the Guild - REID'!B9+'President of the Guild - MOBILE'!B9 -> 88 | C9: ='President of the Guild - OAK'!C9+'President of the Guild - REID'!C9+'President of the Guild - MOBILE'!C9 -> 0 | D9: ='President of the Guild - OAK'!D9+'President of the Guild - REID'!D9+'President of the Guild - MOBILE'!D9 -> 0 | E9: ='President of the Guild - OAK'!E9+'President of the Guild - REID'!E9+'President of the Guild - MOBILE'!E9 -> 53 | F9: ='President of the Guild - OAK'!F9+'President of the Guild - REID'!F9+'President of the Guild - MOBILE'!F9 -> 0 | G9: ='President of the Guild - OAK'!G9+'President of the Guild - REID'!G9+'President of the Guild - MOBILE'!G9 -> 264 | H9: =SUM(B9:G9) -> 405
A10: Total | B10: =SUM(B8:B9) -> 1479 | C10: 415 | D10: =SUM(D8:D9) -> 343 | E10: =SUM(E8:E9) -> 1085 | F10: 122 | G10: =SUM(G8:G9) -> 498 | H10: =SUM(B10:G10) -> 3942 | I10: =I4 -> 226 | J10: =SUM(H10:I10) -> 4168

Sheet General Secretary - OAK
A1: GENERAL SECRETARY - OAK
A2: HOME
A3: Candidates | B3: BLIGHT Connor (LIFT) | C3: LEUNIG Annika (SPARK) | D3: JONES Lachie (AI Party) | E3: BYGRAVE Hannah (REVIVE) | F3: HAMMOND McKENZIE Alessio (Social Justice) | G3: Exhausted | H3: Valid Votes | I3: Informal | J3: Total Votes
A4: 1st Prefs | B4: 125 | C4: 498 | D4: 67 | E4: 319 | F4: 156 | H4: =SUM(B4:G4) -> 1165 | I4: 156 | J4: =SUM(H4:I4) -> 1321 | L4: Absolute majority | M4: =H4/2 -> 582.5
A5: 1st Distribution | B5: 5 | C5: 7 | E5: 5 | G5: 50
A6: Total | B6: =SUM(B3:B4) -> 125 | C6: =SUM(C3:C4) -> 498 | D6: =SUM(D3:D4) -> 67 | E6: =SUM(E3:E4) -> 319 | F6: =SUM(F3:F4) -> 156 | G6: =SUM(G4:G5) -> 50 | H6: =SUM(B6:G6) -> 1215 | I6: =I4 -> 156 | J6: =SUM(H6:I6) -> 1371
A7: 2nd Distribution | B7: 1 | C7: 29 | E7: 17 | G7: 78
A8: Total | B8: =SUM(B6:B7) -> 126 | C8: =SUM(C6:C7) -> 527 | D8: =SUM(D6:D7) -> 67 | E8: =SUM(E6:E7) -> 336 | F8: =SUM(F6:F7) -> 156 | G8: =SUM(G6:G7) -> 128 | H8: =SUM(B8:G8) -> 1340 | I8: =I4 -> 156 | J8: =SUM(H8:I8) -> 1496
A9: 3rd Distribution | C9: 40 | E9: 17 | G9: 98
A10: Total | B10: =SUM(B8:B9) -> 126 | C10: =SUM(C8:C9) -> 567 | D10: =SUM(D8:D9) -> 67 | E10: =SUM(E8:E9) -> 353 | F10: =SUM(F8:F9) -> 156 | G10: =SUM(G8:G9) -> 226 | H10: =SUM(B10:G10) -> 1495 | I10: =I4 -> 156 | J10: =SUM(H10:I10) -> 1651

Sheet General Secretary - REID
A1: GENERAL SECRETARY - REID
A2: HOME
A3: Candidates | B3: BLIGHT Connor (LIFT) | C3: LEUNIG Annika (SPARK) | D3: JONES Lachie (AI Party) | E3: BYGRAVE Hannah (REVIVE) | F3: HAMMOND McKENZIE Alessio (Social Justice) | G3: Exhausted | H3: Valid Votes | I3: Informal | J3: Total Votes
A4: 1st Prefs | B4: 152 | C4: 652 | D4: 79 | E4: 511 | F4: 151 | H4: =SUM(B4:G4) -> 1545 | I4: 105 | J4: =SUM(H4:I4) -> 1650 | L4: Absolute majority | M4: =H4/2 -> 772.5
A5: 1st Distribution | C5: 7 | E5: 15 | F5: 5 | G5: 47
A6: Total | B6: =SUM(B3:B4) -> 152 | C6: =SUM(C3:C4) -> 652 | D6: =SUM(D3:D4) -> 79 | E6: =SUM(E3:E4) -> 511 | F6: =SUM(F3:F4) -> 151 | G6: =SUM(G4:G5) -> 47 | H6: =SUM(B6:G6) -> 1592 | I6: =I4 -> 105 | J6: =SUM(H6:I6) -> 1697
A7: 2nd Distribution | C7: 41 | F7: 2 | G7: 84
A8: Total | B8: =SUM(B6:B7) -> 152 | C8: =SUM(C6:C7) -> 693 | D8: =SUM(D6:D7) -> 79 | E8: =SUM(E6:E7) -> 511 | F8: =SUM(F6:F7) -> 153 | G8: =SUM(G6:G7) -> 131 | H8: =SUM(B8:G8) -> 1719 | I8: =I4 -> 105 | J8: =SUM(H8:I8) -> 1824
A9: 3rd Distribution | C9: 34 | E9: 26 | G9: 91
A10: Total | B10: =SUM(B8:B9) -> 152 | C10: =SUM(C8:C9) -> 727 | D10: =SUM(D8:D9) -> 79 | E10: =SUM(E8:E9) -> 537 | F10: =SUM(F8:F9) -> 153 | G10: =SUM(G8:G9) -> 222 | H10: =SUM(B10:G10) -> 1870 | I10: =I4 -> 105 | J10: =SUM(H10:I10) -> 1975

Sheet General Secretary - MOBILE
A1: GENERAL SECRETARY - MOBILE
A2: HOME
A3: Candidates | B3: BLIGHT Connor (LIFT) | C3: LEUNIG Annika (SPARK) | D3: JONES Lachie (AI Party) | E3: BYGRAVE Hannah (REVIVE) | F3: HAMMOND McKENZIE Alessio (Social Justice) | G3: Exhausted | H3: Valid Votes | I3: Informal | J3: Total Votes
A4: 1st Prefs | B4: 36 | C4: 85 | D4: 17 | E4: 92 | F4: 31 | H4: =SUM(B4:G4) -> 261 | I4: 52 | J4: =SUM(H4:I4) -> 313 | L4: Absolute majority | M4: =H4/2 -> 130.5
A5: 1st Distribution | B5: 2 | C5: 4 | E5: 1 | G5: 10
A6: Total | B6: =SUM(B3:B4) -> 36 | C6: =SUM(C3:C4) -> 85 | D6: =SUM(D3:D4) -> 17 | E6: =SUM(E3:E4) -> 92 | F6: =SUM(F3:F4) -> 31 | G6: =SUM(G4:G5) -> 10 | H6: =SUM(B6:G6) -> 271 | I6: =I4 -> 52 | J6: =SUM(H6:I6) -> 323
A7: 2nd Distribution | C7: 12 | E7: 7 | F7: 1 | G7: 16
A8: Total | B8: =SUM(B6:B7) -> 36 | C8: =SUM(C6:C7) -> 97 | D8: =SUM(D6:D7) -> 17 | E8: =SUM(E6:E7) -> 99 | F8: =SUM(F6:F7) -> 32 | G8: =SUM(G6:G7) -> 26 | H8: =SUM(B8:G8) -> 307 | I8: =I4 -> 52 | J8: =SUM(H8:I8) -> 359
A9: 3rd Distribution | C9: 5 | E9: 3 | G9: 23
A10: Total | B10: =SUM(B8:B9) -> 36 | C10: =SUM(C8:C9) -> 102 | D10: =SUM(D8:D9) -> 17 | E10: =SUM(E8:E9) -> 102 | F10: =SUM(F8:F9) -> 32 | G10: =SUM(G8:G9) -> 49 | H10: =SUM(B10:G10) -> 338 | I10: =I4 -> 52 | J10: =SUM(H10:I10) -> 390

Sheet General Secretary - Overall
A1: GENERAL SECRETARY - OVERALL
A2: HOME
A3: Candidates | B3: BLIGHT Connor (LIFT) | C3: LEUNIG Annika (SPARK) | D3: JONES Lachie (AI Party) | E3: BYGRAVE Hannah (REVIVE) | F3: HAMMOND McKENZIE Alessio (Social Justice) | G3: Exhausted | H3: Valid Votes | I3: Informal | J3: Total Votes
A4: 1st Prefs | B4: ='General Secretary - OAK'!B4+'General Secretary - REID'!B4+'General Secretary - MOBILE'!B4 -> 313 | C4: ='General Secretary - OAK'!C4+'General Secretary - REID'!C4+'General Secretary - MOBILE'!C4 -> 1235 | D4: ='General Secretary - OAK'!D4+'General Secretary - REID'!D4+'General Secretary - MOBILE'!D4 -> 163 | E4: ='General Secretary - OAK'!E4+'General Secretary - REID'!E4+'General Secretary - MOBILE'!E4 -> 922 | F4: ='General Secretary - OAK'!F4+'General Secretary - REID'!F4+'General Secretary - MOBILE'!F4 -> 338 | G4: ='General Secretary - OAK'!G4+'General Secretary - REID'!G4+'General Secretary - MOBILE'!G4 -> 0 | H4: =SUM(B4:G4) -> 2971 | I4: ='General Secretary - OAK'!I4+'General Secretary - REID'!I4+'General Secretary - MOBILE'!I4 -> 313 | J4: =SUM(H4:I4) -> 3284 | L4: Absolute majority | M4: =H4/2 -> 1485.5
A5: 1st Distribution | B5: ='General Secretary - OAK'!B5+'General Secretary - REID'!B5+'General Secretary - MOBILE'!B5 -> 7 | C5: ='General Secretary - OAK'!C5+'General Secretary - REID'!C5+'General Secretary - MOBILE'!C5 -> 18 | D5: ='General Secretary - OAK'!D5+'General Secretary - REID'!D5+'General Secretary - MOBILE'!D5 -> 0 | E5: ='General Secretary - OAK'!E5+'General Secretary - REID'!E5+'General Secretary - MOBILE'!E5 -> 21 | F5: ='General Secretary - OAK'!F5+'General Secretary - REID'!F5+'General Secretary - MOBILE'!F5 -> 5 | G5: ='General Secretary - OAK'!G5+'General Secretary - REID'!G5+'General Secretary - MOBILE'!G5 -> 107 | H5: =SUM(B5:G5) -> 158 | J5: =SUM(H5:I5) -> 158
A6: Total | B6: ='General Secretary - OAK'!B6+'General Secretary - REID'!B6+'General Secretary - MOBILE'!B6 -> 313 | C6: ='General Secretary - OAK'!C6+'General Secretary - REID'!C6+'General Secretary - MOBILE'!C6 -> 1235 | D6: ='General Secretary - OAK'!D6+'General Secretary - REID'!D6+'General Secretary - MOBILE'!D6 -> 163 | E6: ='General Secretary - OAK'!E6+'General Secretary - REID'!E6+'General Secretary - MOBILE'!E6 -> 922 | F6: ='General Secretary - OAK'!F6+'General Secretary - REID'!F6+'General Secretary - MOBILE'!F6 -> 338 | G6: ='General Secretary - OAK'!G6+'General Secretary - REID'!G6+'General Secretary - MOBILE'!G6 -> 107 | H6: =SUM(B6:G6) -> 3078 | I6: =I4 -> 313 | J6: =SUM(H6:I6) -> 3391
A7: 2nd Distribution | B7: ='General Secretary - OAK'!B7+'General Secretary - REID'!B7+'General Secretary - MOBILE'!B7 -> 1 | C7: ='General Secretary - OAK'!C7+'General Secretary - REID'!C7+'General Secretary - MOBILE'!C7 -> 82 | D7: ='General Secretary - OAK'!D7+'General Secretary - REID'!D7+'General Secretary - MOBILE'!D7 -> 0 | E7: ='General Secretary - OAK'!E7+'General Secretary - REID'!E7+'General Secretary - MOBILE'!E7 -> 24 | F7: ='General Secretary - OAK'!F7+'General Secretary - REID'!F7+'General Secretary - MOBILE'!F7 -> 3 | G7: ='General Secretary - OAK'!G7+'General Secretary - REID'!G7+'General Secretary - MOBILE'!G7 -> 178 | H7: =SUM(B7:G7) -> 288 | J7: =SUM(H7:I7) -> 288
A8: Total | B8: ='General Secretary - OAK'!B8+'General Secretary - REID'!B8+'General Secretary - MOBILE'!B8 -> 314 | C8: ='General Secretary - OAK'!C8+'General Secretary - REID'!C8+'General Secretary - MOBILE'!C8 -> 1317 | D8: ='General Secretary - OAK'!D8+'General Secretary - REID'!D8+'General Secretary - MOBILE'!D8 -> 163 | E8: ='General Secretary - OAK'!E8+'General Secretary - REID'!E8+'General Secretary - MOBILE'!E8 -> 946 | F8: ='General Secretary - OAK'!F8+'General Secretary - REID'!F8+'General Secretary - MOBILE'!F8 -> 341 | G8: ='General Secretary - OAK'!G8+'General Secretary - REID'!G8+'General Secretary - MOBILE'!G8 -> 285 | H8: =SUM(B8:G8) -> 3366 | I8: =I4 -> 313 | J8: =SUM(H8:I8) -> 3679
A9: 3rd Distribution | B9: ='General Secretary - OAK'!B9+'General Secretary - REID'!B9+'General Secretary - MOBILE'!B9 -> 0 | C9: ='General Secretary - OAK'!C9+'General Secretary - REID'!C9+'General Secretary - MOBILE'!C9 -> 79 | D9: ='General Secretary - OAK'!D9+'General Secretary - REID'!D9+'General Secretary - MOBILE'!D9 -> 0 | E9: ='General Secretary - OAK'!E9+'General Secretary - REID'!E9+'General Secretary - MOBILE'!E9 -> 46 | F9: ='General Secretary - OAK'!F9+'General Secretary - REID'!F9+'General Secretary - MOBILE'!F9 -> 0 | G9: ='General Secretary - OAK'!G9+'General Secretary - REID'!G9+'General Secretary - MOBILE'!G9 -> 212 | H9: =SUM(B9:G9) -> 337 | J9: =SUM(H9:I9) -> 337
A10: Total | B10: =SUM(B8:B9) -> 314 | C10: =SUM(C8:C9) -> 1396 | D10: =SUM(D8:D9) -> 163 | E10: =SUM(E8:E9) -> 992 | F10: =SUM(F8:F9) -> 341 | G10: =SUM(G8:G9) -> 497 | H10: =SUM(B10:G10) -> 3703 | I10: =I4 -> 313 | J10: =SUM(H10:I10) -> 4016

Sheet Sports Representative - OAK
A1: SPORTS REPRESENTATIVE - OAK
A2: HOME
A3: Candidates | B3: GALLUCCIO Ed (Social Justice) | C3: CARBONE Anthony (LIFT) | D3: WILLIAMS Jerome (REVIVE) | E3: MERENDINO River (THUNDER) | F3: ZHANG Damien (SPARK) | G3: Exhausted | H3: Valid Votes | I3: Informal | J3: Total Votes
A4: 1st Prefs | B4: 141 | C4: 143 | D4: 312 | E4: 72 | F4: 482 | H4: =SUM(B4:G4) -> 1150 | I4: 163 | J4: =SUM(H4:I4) -> 1313 | L4: Absolute majority | M4: =H4/2 -> 575
A5: 1st Distribution | B5: 4 | C5: 3 | D5: 9 | F5: 15 | G5: 41
A6: Total | B6: =SUM(B3:B4) -> 141 | C6: =SUM(C3:C4) -> 143 | D6: =SUM(D3:D4) -> 312 | E6: =SUM(E3:E4) -> 72 | F6: =SUM(F3:F4) -> 482 | G6: =SUM(G4:G5) -> 41 | H6: =SUM(B6:G6) -> 1191 | I6: =I4 -> 163 | J6: =SUM(H6:I6) -> 1354
A7: 2nd Distribution | C7: 8 | D7: 9 | F7: 37 | G7: 87
A8: Total | B8: =SUM(B6:B7) -> 141 | C8: =SUM(C6:C7) -> 151 | D8: =SUM(D6:D7) -> 321 | E8: =SUM(E6:E7) -> 72 | F8: =SUM(F6:F7) -> 519 | G8: =SUM(G6:G7) -> 128 | H8: =SUM(B8:G8) -> 1332 | I8: =I4 -> 163 | J8: =SUM(H8:I8) -> 1495
A9: 3rd Distribution | D9: 18 | F9: 26 | G9: 99
A10: Total | B10: =SUM(B8:B9) -> 141 | C10: =SUM(C8:C9) -> 151 | D10: =SUM(D8:D9) -> 339 | E10: =SUM(E8:E9) -> 72 | F10: =SUM(F8:F9) -> 545 | G10: =SUM(G8:G9) -> 227 | H10: =SUM(B10:G10) -> 1475 | I10: =I4 -> 163 | J10: =SUM(H10:I10) -> 1638

Sheet Sports Representative - REID
A1: SPORTS REPRESENTATIVE - REID
A2: HOME
A3: Candidates | B3: GALLUCCIO Ed (Social Justice) | C3: CARBONE Anthony (LIFT) | D3: WILLIAMS Jerome (REVIVE) | E3: MERENDINO River (THUNDER) | F3: ZHANG Damien (SPARK) | G3: Exhausted | H3: Valid Votes | I3: Informal | J3: Total Votes
A4: 1st Prefs | B4: 155 | C4: 152 | D4: 497 | E4: 88 | F4: 632 | H4: =SUM(B4:G4) -> 1524 | I4: 121 | J4: =SUM(H4:I4) -> 1645 | L4: Absolute majority | M4: =H4/2 -> 762
A5: 1st Distribution | B5: 4 | C5: 10 | D5: 10 | F5: 26 | G5: 38
A6: Total | B6: =SUM(B4:B5) -> 159 | C6: =SUM(C4:C5) -> 162 | D6: =SUM(D4:D5) -> 507 | E6: =SUM(E4:E5) -> 88 | F6: =SUM(F4:F5) -> 658 | G6: =SUM(G4:G5) -> 38 | H6: =SUM(B6:G6) -> 1612 | I6: =I4 -> 121 | J6: =SUM(H6:I6) -> 1733
A7: 2nd Distribution | C7: 10 | D7: 20 | F7: 30 | G7: 95
A8: Total | B8: =SUM(B6:B7) -> 159 | C8: =SUM(C6:C7) -> 172 | D8: =SUM(D6:D7) -> 527 | E8: =SUM(E6:E7) -> 88 | F8: =SUM(F6:F7) -> 688 | G8: =SUM(G6:G7) -> 133 | H8: =SUM(B8:G8) -> 1767 | I8: =I4 -> 121 | J8: =SUM(H8:I8) -> 1888
A9: 3rd Distribution | D9: 39 | F9: 28 | G9: 85
A10: Total | B10: =SUM(B8:B9) -> 159 | C10: =SUM(C8:C9) -> 172 | D10: =SUM(D8:D9) -> 566 | E10: =SUM(E8:E9) -> 88 | F10: =SUM(F8:F9) -> 716 | G10: =SUM(G8:G9) -> 218 | H10: =SUM(B10:G10) -> 1919 | I10: =I4 -> 121 | J10: =SUM(H10:I10) -> 2040

Sheet Sports Representative - MOBILE
A1: SPORTS REPRESENTATIVE - MOBILE
A2: HOME
A3: Candidates | B3: GALLUCCIO Ed (Social Justice) | C3: CARBONE Anthony (LIFT) | D3: WILLIAMS Jerome (REVIVE) | E3: MERENDINO River (THUNDER) | F3: ZHANG Damien (SPARK) | G3: Exhausted | H3: Valid Votes | I3: Informal | J3: Total Votes
A4: 1st Prefs | B4: 28 | C4: 36 | D4: 89 | E4: 19 | F4: 88 | H4: =SUM(B4:G4) -> 260 | I4: 52 | J4: =SUM(H4:I4) -> 312 | L4: Absolute majority | M4: =H4/2 -> 130
A5: 1st Distribution | C5: 3 | D5: 1 | F5: 5 | G5: 10
A6: Total | B6: =SUM(B3:B4) -> 28 | C6: =SUM(C3:C4) -> 36 | D6: =SUM(D3:D4) -> 89 | E6: =SUM(E3:E4) -> 19 | F6: =SUM(F3:F4) -> 88 | G6: =SUM(G4:G5) -> 10 | H6: =SUM(B6:G6) -> 270 | I6: =I4 -> 52 | J6: =SUM(H6:I6) -> 322
A7: 2nd Distribution | C7: 3 | D7: 3 | F7: 4 | G7: 18
A8: Total | B8: =SUM(B6:B7) -> 28 | C8: =SUM(C6:C7) -> 39 | D8: =SUM(D6:D7) -> 92 | E8: =SUM(E6:E7) -> 19 | F8: =SUM(F6:F7) -> 92 | G8: =SUM(G6:G7) -> 28 | H8: =SUM(B8:G8) -> 298 | I8: =I4 -> 52 | J8: =SUM(H8:I8) -> 350
A9: 3rd Distribution | C9: 9 | F9: 3 | G9: 24
A10: Total | B10: =SUM(B8:B9) -> 28 | C10: =SUM(C8:C9) -> 48 | D10: =SUM(D8:D9) -> 92 | E10: =SUM(E8:E9) -> 19 | F10: =SUM(F8:F9) -> 95 | G10: =SUM(G8:G9) -> 52 | H10: =SUM(B10:G10) -> 334 | I10: =I4 -> 52 | J10: =SUM(H10:I10) -> 386

Sheet Sports Representative - Overall
A1: SPORTS REPRESENTATIVE - OVERALL
A2: HOME
A3: Candidates | B3: GALLUCCIO Ed (Social Justice) | C3: CARBONE Anthony (LIFT) | D3: WILLIAMS Jerome (REVIVE) | E3: MERENDINO River (THUNDER) | F3: ZHANG Damien (SPARK) | G3: Exhausted | H3: Valid Votes | I3: Informal | J3: Total Votes
A4: 1st Prefs | B4: ='Sports Representative - OAK'!B4+'Sports Representative - REID'!B4+'Sports Representative - MOBILE'!B4 -> 324 | C4: ='Sports Representative - OAK'!C4+'Sports Representative - REID'!C4+'Sports Representative - MOBILE'!C4 -> 331 | D4: ='Sports Representative - OAK'!D4+'Sports Representative - REID'!D4+'Sports Representative - MOBILE'!D4 -> 898 | E4: ='Sports Representative - OAK'!E4+'Sports Representative - REID'!E4+'Sports Representative - MOBILE'!E4 -> 179 | F4: ='Sports Representative - OAK'!F4+'Sports Representative - REID'!F4+'Sports Representative - MOBILE'!F4 -> 1202 | G4: ='Sports Representative - OAK'!G4+'Sports Representative - REID'!G4+'Sports Representative - MOBILE'!G4 -> 0 | H4: =SUM(B4:G4) -> 2934 | I4: ='Sports Representative - OAK'!I4+'Sports Representative - REID'!I4+'Sports Representative - MOBILE'!I4 -> 336 | J4: =SUM(H4:I4) -> 3270 | L4: Absolute majority | M4: =H4/2 -> 1467
A5: 1st Distribution | B5: ='Sports Representative - OAK'!B5+'Sports Representative - REID'!B5+'Sports Representative - MOBILE'!B5 -> 8 | C5: ='Sports Representative - OAK'!C5+'Sports Representative - REID'!C5+'Sports Representative - MOBILE'!C5 -> 16 | D5: ='Sports Representative - OAK'!D5+'Sports Representative - REID'!D5+'Sports Representative - MOBILE'!D5 -> 20 | E5: ='Sports Representative - OAK'!E5+'Sports Representative - REID'!E5+'Sports Representative - MOBILE'!E5 -> 0 | F5: ='Sports Representative - OAK'!F5+'Sports Representative - REID'!F5+'Sports Representative - MOBILE'!F5 -> 46 | G5: ='Sports Representative - OAK'!G5+'Sports Representative - REID'!G5+'Sports Representative - MOBILE'!G5 -> 89 | H5: =SUM(B5:G5) -> 179
A6: Total | B6: ='Sports Representative - OAK'!B6+'Sports Representative - REID'!B6+'Sports Representative - MOBILE'!B6 -> 328 | C6: ='Sports Representative - OAK'!C6+'Sports Representative - REID'!C6+'Sports Representative - MOBILE'!C6 -> 341 | D6: ='Sports Representative - OAK'!D6+'Sports Representative - REID'!D6+'Sports Representative - MOBILE'!D6 -> 908 | E6: ='Sports Representative - OAK'!E6+'Sports Representative - REID'!E6+'Sports Representative - MOBILE'!E6 -> 179 | F6: ='Sports Representative - OAK'!F6+'Sports Representative - REID'!F6+'Sports Representative - MOBILE'!F6 -> 1228 | G6: ='Sports Representative - OAK'!G6+'Sports Representative - REID'!G6+'Sports Representative - MOBILE'!G6 -> 89 | H6: =SUM(B6:G6) -> 3073 | I6: =I4 -> 336 | J6: =SUM(H6:I6) -> 3409
A7: 2nd Distribution | B7: ='Sports Representative - OAK'!B7+'Sports Representative - REID'!B7+'Sports Representative - MOBILE'!B7 -> 0 | C7: ='Sports Representative - OAK'!C7+'Sports Representative - REID'!C7+'Sports Representative - MOBILE'!C7 -> 21 | D7: ='Sports Representative - OAK'!D7+'Sports Representative - REID'!D7+'Sports Representative - MOBILE'!D7 -> 32 | E7: ='Sports Representative - OAK'!E7+'Sports Representative - REID'!E7+'Sports Representative - MOBILE'!E7 -> 0 | F7: ='Sports Representative - OAK'!F7+'Sports Representative - REID'!F7+'Sports Representative - MOBILE'!F7 -> 71 | G7: ='Sports Representative - OAK'!G7+'Sports Representative - REID'!G7+'Sports Representative - MOBILE'!G7 -> 200 | H7: =SUM(B7:G7) -> 324
A8: Total | B8: ='Sports Representative - OAK'!B8+'Sports Representative - REID'!B8+'Sports Representative - MOBILE'!B8 -> 328 | C8: ='Sports Representative - OAK'!C8+'Sports Representative - REID'!C8+'Sports Representative - MOBILE'!C8 -> 362 | D8: ='Sports Representative - OAK'!D8+'Sports Representative - REID'!D8+'Sports Representative - MOBILE'!D8 -> 940 | E8: ='Sports Representative - OAK'!E8+'Sports Representative - REID'!E8+'Sports Representative - MOBILE'!E8 -> 179 | F8: ='Sports Representative - OAK'!F8+'Sports Representative - REID'!F8+'Sports Representative - MOBILE'!F8 -> 1299 | G8: ='Sports Representative - OAK'!G8+'Sports Representative - REID'!G8+'Sports Representative - MOBILE'!G8 -> 289 | H8: =SUM(B8:G8) -> 3397 | I8: =I4 -> 336 | J8: =SUM(H8:I8) -> 3733
A9: 3rd Distribution | B9: ='Sports Representative - OAK'!B9+'Sports Representative - REID'!B9+'Sports Representative - MOBILE'!B9 -> 0 | C9: ='Sports Representative - OAK'!C9+'Sports Representative - REID'!C9+'Sports Representative - MOBILE'!C9 -> 9 | D9: ='Sports Representative - OAK'!D9+'Sports Representative - REID'!D9+'Sports Representative - MOBILE'!D9 -> 57 | E9: ='Sports Representative - OAK'!E9+'Sports Representative - REID'!E9+'Sports Representative - MOBILE'!E9 -> 0 | F9: ='Sports Representative - OAK'!F9+'Sports Representative - REID'!F9+'Sports Representative - MOBILE'!F9 -> 57 | G9: ='Sports Representative - OAK'!G9+'Sports Representative - REID'!G9+'Sports Representative - MOBILE'!G9 -> 208 | H9: =SUM(B9:G9) -> 331
A10: Total | B10: =SUM(B8:B9) -> 328 | C10: =SUM(C8:C9) -> 371 | D10: =SUM(D8:D9) -> 997 | E10: =SUM(E8:E9) -> 179 | F10: =SUM(F8:F9) -> 1356 | G10: =SUM(G8:G9) -> 497 | H10: =SUM(B10:G10) -> 3728 | I10: =I4 -> 336 | J10: =SUM(H10:I10) -> 4064

Sheet Pres. of Public Affairs - OAK
A1: PRESIDENT OF PUBLIC AFFAIRS COUNCIL - OAK
A2: HOME
A3: Candidates | B3: PREMACHANDRA Sadeni (REVIVE) | C3: CHAN Aimee (SPARK) | D3: PEARCE Thomas (Social Justice) | E3: NIKOLICH Andre (LIFT) | F3: Exhausted | G3: Valid Votes | H3: Informal | I3: Total Votes
A4: 1st Prefs | B4: 345 | C4: 555 | D4: 170 | E4: 131 | G4: =SUM(B4:F4) -> 1201 | H4: 124 | I4: =SUM(G4:H4) -> 1325 | K4: Absolute majority | L4: =G4/2 -> 600.5
A5: 1st Distribution | B5: 16 | C5: 24 | D5: 5 | F5: 86
A6: Total | B6: =SUM(B4:B5) -> 361 | C6: =SUM(C4:C5) -> 579 | D6: =SUM(D4:D5) -> 175 | E6: =SUM(E4:E5) -> 131 | F6: =SUM(F4:F5) -> 86 | G6: =SUM(B6:F6) -> 1332 | H6: =H4 -> 124 | I6: =SUM(G6:H6) -> 1456
A7: 2nd Distribution | B7: 27 | C7: 48 | F7: 95
A8: Total | B8: =SUM(B6:B7) -> 388 | C8: =SUM(C6:C7) -> 627 | D8: =SUM(D6:D7) -> 175 | E8: =SUM(E6:E7) -> 131 | F8: =SUM(F6:F7) -> 181 | G8: =SUM(B8:F8) -> 1502 | H8: =H4 -> 124 | I8: =SUM(G8:H8) -> 1626

Sheet Pres. of Public Affairs - REID
A1: PRESIDENT OF PUBLIC AFFAIRS COUNCIL - REID
A2: HOME
A3: Candidates | B3: PREMACHANDRA Sadeni (REVIVE) | C3: CHAN Aimee (SPARK) | D3: PEARCE Thomas (Social Justice) | E3: NIKOLICH Andre (LIFT) | F3: Exhausted | G3: Valid Votes | H3: Informal | I3: Total Votes
A4: 1st Prefs | B4: 541 | C4: 692 | D4: 153 | E4: 159 | G4: =SUM(B4:F4) -> 1545 | H4: 118 | I4: =SUM(G4:H4) -> 1663 | K4: Absolute majority | L4: =G4/2 -> 772.5
A5: 1st Distribution | B5: 30 | C5: 38 | D5: 9 | F5: 82
A6: Total | B6: =SUM(B4:B5) -> 571 | C6: =SUM(C4:C5) -> 730 | D6: =SUM(D4:D5) -> 162 | E6: =SUM(E4:E5) -> 159 | F6: =SUM(F4:F5) -> 82 | G6: =SUM(B6:F6) -> 1704 | H6: =H4 -> 118 | I6: =SUM(G6:H6) -> 1822
A7: 2nd Distribution | B7: 21 | C7: 41 | F7: 91
A8: Total | B8: =SUM(B6:B7) -> 592 | C8: =SUM(C6:C7) -> 771 | D8: =SUM(D6:D7) -> 162 | E8: =SUM(E6:E7) -> 159 | F8: =SUM(F6:F7) -> 173 | G8: =SUM(B8:F8) -> 1857 | H8: =H4 -> 118 | I8: =SUM(G8:H8) -> 1975

Sheet Pres. of Public Affairs - MOBIL
A1: PRESIDENT OF PUBLIC AFFAIRS COUNCIL - MOBILE
A2: HOME
A3: Candidates | B3: PREMACHANDRA Sadeni (REVIVE) | C3: CHAN Aimee (SPARK) | D3: PEARCE Thomas (Social Justice) | E3: NIKOLICH Andre (LIFT) | F3: Exhausted | G3: Valid Votes | H3: Informal | I3: Total Votes
A4: 1st Prefs | B4: 98 | C4: 86 | D4: 43 | E4: 32 | G4: =SUM(B4:F4) -> 259 | H4: 52 | I4: =SUM(G4:H4) -> 311 | K4: Absolute majority | L4: =G4/2 -> 129.5
A5: 1st Distribution | B5: 7 | C5: 5 | D5: 7 | F5: 13
A6: Total | B6: =SUM(B4:B5) -> 105 | C6: =SUM(C4:C5) -> 91 | D6: =SUM(D4:D5) -> 50 | E6: =SUM(E4:E5) -> 32 | F6: =SUM(F4:F5) -> 13 | G6: =SUM(B6:F6) -> 291 | H6: =H4 -> 52 | I6: =SUM(G6:H6) -> 343
A7: 2nd Distribution | B7: 4 | C7: 6 | F7: 33
A8: Total | B8: =SUM(B6:B7) -> 109 | C8: =SUM(C6:C7) -> 97 | D8: =SUM(D6:D7) -> 50 | E8: =SUM(E6:E7) -> 32 | F8: =SUM(F6:F7) -> 46 | G8: =SUM(B8:F8) -> 334 | H8: =H4 -> 52 | I8: =SUM(G8:H8) -> 386

Sheet Pres. of Public Affairs - OVERA
A1: PRESIDENT OF PUBLIC AFFAIRS COUNCIL - OVERALL
A2: HOME
A3: Candidates | B3: PREMACHANDRA Sadeni (REVIVE) | C3: CHAN Aimee (SPARK) | D3: PEARCE Thomas (Social Justice) | E3: NIKOLICH Andre (LIFT) | F3: Exhausted | G3: Valid Votes | H3: Informal | I3: Total Votes
A4: 1st Prefs | B4: ='Pres. of Public Affairs - OAK'!B4+'Pres. of Public Affairs - REID'!B4+'Pres. of Public Affairs - MOBIL'!B4 -> 984 | C4: ='Pres. of Public Affairs - OAK'!C4+'Pres. of Public Affairs - REID'!C4+'Pres. of Public Affairs - MOBIL'!C4 -> 1333 | D4: ='Pres. of Public Affairs - OAK'!D4+'Pres. of Public Affairs - REID'!D4+'Pres. of Public Affairs - MOBIL'!D4 -> 366 | E4: ='Pres. of Public Affairs - OAK'!E4+'Pres. of Public Affairs - REID'!E4+'Pres. of Public Affairs - MOBIL'!E4 -> 322 | F4: ='Pres. of Public Affairs - OAK'!F4+'Pres. of Public Affairs - REID'!F4+'Pres. of Public Affairs - MOBIL'!F4 -> 0 | G4: =SUM(B4:F4) -> 3005 | H4: ='Pres. of Public Affairs - OAK'!H4+'Pres. of Public Affairs - REID'!H4+'Pres. of Public Affairs - MOBIL'!H4 -> 294 | I4: =SUM(G4:H4) -> 3299 | K4: Absolute majority | L4: =G4/2 -> 1502.5
A5: 1st Distribution | B5: ='Pres. of Public Affairs - OAK'!B5+'Pres. of Public Affairs - REID'!B5+'Pres. of Public Affairs - MOBIL'!B5 -> 53 | C5: ='Pres. of Public Affairs - OAK'!C5+'Pres. of Public Affairs - REID'!C5+'Pres. of Public Affairs - MOBIL'!C5 -> 67 | D5: ='Pres. of Public Affairs - OAK'!D5+'Pres. of Public Affairs - REID'!D5+'Pres. of Public Affairs - MOBIL'!D5 -> 21 | E5: ='Pres. of Public Affairs - OAK'!E5+'Pres. of Public Affairs - REID'!E5+'Pres. of Public Affairs - MOBIL'!E5 -> 0 | F5: ='Pres. of Public Affairs - OAK'!F5+'Pres. of Public Affairs - REID'!F5+'Pres. of Public Affairs - MOBIL'!F5 -> 181 | G5: =SUM(B5:F5) -> 322 | I5: =SUM(G5:H5) -> 322
A6: Total | B6: ='Pres. of Public Affairs - OAK'!B6+'Pres. of Public Affairs - REID'!B6+'Pres. of Public Affairs - MOBIL'!B6 -> 1037 | C6: ='Pres. of Public Affairs - OAK'!C6+'Pres. of Public Affairs - REID'!C6+'Pres. of Public Affairs - MOBIL'!C6 -> 1400 | D6: ='Pres. of Public Affairs - OAK'!D6+'Pres. of Public Affairs - REID'!D6+'Pres. of Public Affairs - MOBIL'!D6 -> 387 | E6: ='Pres. of Public Affairs - OAK'!E6+'Pres. of Public Affairs - REID'!E6+'Pres. of Public Affairs - MOBIL'!E6 -> 322 | F6: ='Pres. of Public Affairs - OAK'!F6+'Pres. of Public Affairs - REID'!F6+'Pres. of Public Affairs - MOBIL'!F6 -> 181 | G6: =SUM(B6:F6) -> 3327 | H6: =H4 -> 294 | I6: =SUM(G6:H6) -> 3621
A7: 2nd Distribution | B7: ='Pres. of Public Affairs - OAK'!B7+'Pres. of Public Affairs - REID'!B7+'Pres. of Public Affairs - MOBIL'!B7 -> 52 | C7: ='Pres. of Public Affairs - OAK'!C7+'Pres. of Public Affairs - REID'!C7+'Pres. of Public Affairs - MOBIL'!C7 -> 95 | D7: ='Pres. of Public Affairs - OAK'!D7+'Pres. of Public Affairs - REID'!D7+'Pres. of Public Affairs - MOBIL'!D7 -> 0 | E7: ='Pres. of Public Affairs - OAK'!E7+'Pres. of Public Affairs - REID'!E7+'Pres. of Public Affairs - MOBIL'!E7 -> 0 | F7: ='Pres. of Public Affairs - OAK'!F7+'Pres. of Public Affairs - REID'!F7+'Pres. of Public Affairs - MOBIL'!F7 -> 219 | G7: =SUM(B7:F7) -> 366 | I7: =SUM(G7:H7) -> 366
A8: Total | B8: =SUM(B6:B7) -> 1089 | C8: =SUM(C6:C7) -> 1495 | D8: =SUM(D6:D7) -> 387 | E8: =SUM(E6:E7) -> 322 | F8: =SUM(F6:F7) -> 400 | G8: =SUM(B8:F8) -> 3693 | H8: =H4 -> 294 | I8: =SUM(G8:H8) -> 3987

Sheet President of Societies - OAK
A1: PRESIDENT OF SOCIETIES COUNCIL - OAK
A2: HOME
A3: Candidates | B3: CASH Tyler (LIFT) | C3: VICKERY Max (Social Justice) | D3: HUGHES Izzy (REVIVE) | E3: TAN Ethan (SPARK) | F3: Exhausted | G3: Valid Votes | H3: Informal | I3: Total Votes
A4: 1st Prefs | B4: 151 | C4: 120 | D4: 345 | E4: 522 | G4: =SUM(B4:F4) -> 1138 | H4: 137 | I4: =SUM(G4:H4) -> 1275 | K4: Absolute majority | L4: =G4/2 -> 569
A5: 1st Distribution | B5: 12 | D5: 18 | E5: 38 | F5: 102
A6: Total | B6: =SUM(B4:B5) -> 163 | C6: =SUM(C4:C5) -> 120 | D6: =SUM(D4:D5) -> 363 | E6: =SUM(E4:E5) -> 560 | F6: =SUM(F4:F5) -> 102 | G6: =SUM(B6:F6) -> 1308 | H6: =H4 -> 137 | I6: =SUM(G6:H6) -> 1445
A7: 2nd Distribution | D7: 32 | E7: 27 | F7: 92
A8: Total | B8: =SUM(B6:B7) -> 163 | C8: =SUM(C6:C7) -> 120 | D8: =SUM(D6:D7) -> 395 | E8: =SUM(E6:E7) -> 587 | F8: =SUM(F6:F7) -> 194 | G8: =SUM(B8:F8) -> 1459 | H8: =H4 -> 137 | I8: =SUM(G8:H8) -> 1596

Sheet President of Societies - REID
A1: PRESIDENT OF SOCIETIES COUNCIL - REID
A2: HOME
A3: Candidates | B3: CASH Tyler (LIFT) | C3: VICKERY Max (Social Justice) | D3: HUGHES Izzy (REVIVE) | E3: TAN Ethan (SPARK) | F3: Exhausted | G3: Valid Votes | H3: Informal | I3: Total Votes
A4: 1st Prefs | B4: 167 | C4: 179 | D4: 510 | E4: 696 | G4: =SUM(B4:F4) -> 1552 | H4: 101 | I4: =SUM(G4:H4) -> 1653 | K4: Absolute majority | L4: =G4/2 -> 776
A5: 1st Distribution | B5: 8 | D5: 25 | E5: 37 | F5: 109
A6: Total | B6: =SUM(B4:B5) -> 175 | C6: =SUM(C4:C5) -> 179 | D6: =SUM(D4:D5) -> 535 | E6: =SUM(E4:E5) -> 733 | F6: =SUM(F4:F5) -> 109 | G6: =SUM(B6:F6) -> 1731 | H6: =H4 -> 101 | I6: =SUM(G6:H6) -> 1832
A7: 2nd Distribution | D7: 49 | E7: 27 | F7: 91
A8: Total | B8: =SUM(B6:B7) -> 175 | C8: =SUM(C6:C7) -> 179 | D8: =SUM(D6:D7) -> 584 | E8: =SUM(E6:E7) -> 760 | F8: =SUM(F6:F7) -> 200 | G8: =SUM(B8:F8) -> 1898 | H8: =H4 -> 101 | I8: =SUM(G8:H8) -> 1999

Sheet President of Societies - MOBILE
A1: PRESIDENT OF SOCIETIES COUNCIL - MOBILE
A2: HOME
A3: Candidates | B3: CASH Tyler (LIFT) | C3: VICKERY Max (Social Justice) | D3: HUGHES Izzy (REVIVE) | E3: TAN Ethan (SPARK) | F3: Exhausted | G3: Valid Votes | H3: Informal | I3: Total Votes
A4: 1st Prefs | B4: 32 | C4: 46 | D4: 97 | E4: 80 | G4: =SUM(B4:F4) -> 255 | H4: 51 | I4: =SUM(G4:H4) -> 306 | K4: Absolute majority | L4: =G4/2 -> 127.5
A5: 1st Distribution | B5: 2 | D5: 4 | E5: 5 | F5: 35
A6: Total | B6: =SUM(B4:B5) -> 34 | C6: =SUM(C4:C5) -> 46 | D6: =SUM(D4:D5) -> 101 | E6: =SUM(E4:E5) -> 85 | F6: =SUM(F4:F5) -> 35 | G6: =SUM(B6:F6) -> 301 | H6: =H4 -> 51 | I6: =SUM(G6:H6) -> 352
A7: 2nd Distribution | D7: 9 | E7: 3 | F7: 50
A8: Total | B8: =SUM(B6:B7) -> 34 | C8: =SUM(C6:C7) -> 46 | D8: =SUM(D6:D7) -> 110 | E8: =SUM(E6:E7) -> 88 | F8: =SUM(F6:F7) -> 85 | G8: =SUM(B8:F8) -> 363 | H8: =H4 -> 51 | I8: =SUM(G8:H8) -> 414

Sheet President of Societies - OVERAL
A1: PRESIDENT OF SOCIETIES COUNCIL - OVERALL
A2: HOME
A3: Candidates | B3: CASH Tyler (LIFT) | C3: VICKERY Max (Social Justice) | D3: HUGHES Izzy (REVIVE) | E3: TAN Ethan (SPARK) | F3: Exhausted | G3: Valid Votes | H3: Informal | I3: Total Votes
A4: 1st Prefs | B4: ='President of Societies - OAK'!B4+'President of Societies - REID'!B4+'President of Societies - MOBILE'!B4 -> 350 | C4: ='President of Societies - OAK'!C4+'President of Societies - REID'!C4+'President of Societies - MOBILE'!C4 -> 345 | D4: ='President of Societies - OAK'!D4+'President of Societies - REID'!D4+'President of Societies - MOBILE'!D4 -> 952 | E4: ='President of Societies - OAK'!E4+'President of Societies - REID'!E4+'President of Societies - MOBILE'!E4 -> 1298 | F4: ='President of Societies - OAK'!F4+'President of Societies - REID'!F4+'President of Societies - MOBILE'!F4 -> 0 | G4: =SUM(B4:F4) -> 2945 | H4: ='President of Societies - OAK'!H4+'President of Societies - REID'!H4+'Pres. of Public Affairs - MOBIL'!H4 -> 290 | I4: =SUM(G4:H4) -> 3235 | K4: Absolute majority | L4: =G4/2 -> 1472.5
A5: 1st Distribution | B5: ='President of Societies - OAK'!B5+'President of Societies - REID'!B5+'President of Societies - MOBILE'!B5 -> 22 | C5: ='President of Societies - OAK'!C5+'President of Societies - REID'!C5+'President of Societies - MOBILE'!C5 -> 0 | D5: ='President of Societies - OAK'!D5+'President of Societies - REID'!D5+'President of Societies - MOBILE'!D5 -> 47 | E5: ='President of Societies - OAK'!E5+'President of Societies - REID'!E5+'President of Societies - MOBILE'!E5 -> 80 | F5: ='President of Societies - OAK'!F5+'President of Societies - REID'!F5+'President of Societies - MOBILE'!F5 -> 246 | G5: =SUM(B5:F5) -> 395 | I5: =SUM(G5:H5) -> 395
A6: Total | B6: ='President of Societies - OAK'!B6+'President of Societies - REID'!B6+'President of Societies - MOBILE'!B6 -> 372 | C6: ='President of Societies - OAK'!C6+'President of Societies - REID'!C6+'President of Societies - MOBILE'!C6 -> 345 | D6: ='President of Societies - OAK'!D6+'President of Societies - REID'!D6+'President of Societies - MOBILE'!D6 -> 999 | E6: ='President of Societies - OAK'!E6+'President of Societies - REID'!E6+'President of Societies - MOBILE'!E6 -> 1378 | F6: ='President of Societies - OAK'!F6+'President of Societies - REID'!F6+'President of Societies - MOBILE'!F6 -> 246 | G6: =SUM(B6:F6) -> 3340 | H6: =H4 -> 290 | I6: =SUM(G6:H6) -> 3630
A7: 2nd Distribution | B7: ='President of Societies - OAK'!B7+'President of Societies - REID'!B7+'President of Societies - MOBILE'!B7 -> 0 | C7: ='President of Societies - OAK'!C7+'President of Societies - REID'!C7+'President of Societies - MOBILE'!C7 -> 0 | D7: ='President of Societies - OAK'!D7+'President of Societies - REID'!D7+'President of Societies - MOBILE'!D7 -> 90 | E7: ='President of Societies - OAK'!E7+'President of Societies - REID'!E7+'President of Societies - MOBILE'!E7 -> 57 | F7: ='President of Societies - OAK'!F7+'President of Societies - REID'!F7+'President of Societies - MOBILE'!F7 -> 233 | G7: =SUM(B7:F7) -> 380 | I7: =SUM(G7:H7) -> 380
A8: Total | B8: =SUM(B6:B7) -> 372 | C8: =SUM(C6:C7) -> 345 | D8: =SUM(D6:D7) -> 1089 | E8: =SUM(E6:E7) -> 1435 | F8: =SUM(F6:F7) -> 479 | G8: =SUM(B8:F8) -> 3720 | H8: =H4 -> 290 | I8: =SUM(G8:H8) -> 4010

Sheet Wellbeing Officer - OAK
A1: WELLBEING OFFICER - OAK
A2: HOME
A3: Candidates | B3: TANG Jeffrey (SPARK) | C3: SETH Aaron (LIFT) | D3: HO Joshua (Social Justice) | E3: COCKERILL Lilia (REVIVE) | F3: Exhausted | G3: Valid Votes | H3: Informal | I3: Total Votes
A4: 1st Prefs | B4: 517 | C4: 164 | D4: 187 | E4: 334 | G4: 127 | I4: =SUM(G4:H4) -> 127 | K4: Absolute majority | L4: =G4/2 -> 63.5
A5: 1st Distribution | B5: 32 | D5: 8 | E5: 11 | F5: 113
A6: Total | B6: =SUM(B4:B5) -> 549 | C6: =SUM(C4:C5) -> 164 | D6: =SUM(D4:D5) -> 195 | E6: =SUM(E4:E5) -> 345 | F6: =SUM(F4:F5) -> 113 | G6: =SUM(B6:F6) -> 1366 | H6: =H4 -> 0 | I6: =SUM(G6:H6) -> 1366
A7: 2nd Distribution | B7: 48 | E7: 15 | F7: 124
A8: Total | B8: =SUM(B6:B7) -> 597 | C8: =SUM(C6:C7) -> 164 | D8: =SUM(D6:D7) -> 195 | E8: =SUM(E6:E7) -> 360 | F8: =SUM(F6:F7) -> 237 | G8: =SUM(B8:F8) -> 1553 | H8: =H4 -> 0 | I8: =SUM(G8:H8) -> 1553

Sheet Wellbeing Officer - REID
A1: WELLBEING OFFICER - REID
A2: HOME
A3: Candidates | B3: TANG Jeffrey (SPARK) | C3: SETH Aaron (LIFT) | D3: HO Joshua (Social Justice) | E3: COCKERILL Lilia (REVIVE) | F3: Exhausted | G3: Valid Votes | H3: Informal | I3: Total Votes
A4: 1st Prefs | B4: 644 | C4: 183 | D4: 197 | E4: 510 | G4: =SUM(B4:F4) -> 1534 | H4: 120 | I4: =SUM(G4:H4) -> 1654 | K4: Absolute majority | L4: =G4/2 -> 767
A5: 1st Distribution | B5: 33 | D5: 7 | E5: 25 | F5: 118
A6: Total | B6: =SUM(B4:B5) -> 677 | C6: =SUM(C4:C5) -> 183 | D6: =SUM(D4:D5) -> 204 | E6: =SUM(E4:E5) -> 535 | F6: =SUM(F4:F5) -> 118 | G6: =SUM(B6:F6) -> 1717 | H6: =H4 -> 120 | I6: =SUM(G6:H6) -> 1837
A7: 2nd Distribution | B7: 58 | E7: 32 | F7: 107
A8: Total | B8: =SUM(B6:B7) -> 735 | C8: =SUM(C6:C7) -> 183 | D8: =SUM(D6:D7) -> 204 | E8: =SUM(E6:E7) -> 567 | F8: =SUM(F6:F7) -> 225 | G8: =SUM(B8:F8) -> 1914 | H8: =H4 -> 120 | I8: =SUM(G8:H8) -> 2034

Sheet Wellbeing Officer - MOBILE
A1: WELLBEING OFFICER - MOBILE
A2: HOME
A3: Candidates | B3: TANG Jeffrey (SPARK) | C3: SETH Aaron (LIFT) | D3: HO Joshua (Social Justice) | E3: COCKERILL Lilia (REVIVE) | F3: Exhausted | G3: Valid Votes | H3: Informal | I3: Total Votes
A4: 1st Prefs | B4: 78 | C4: 40 | D4: 42 | E4: 98 | G4: =SUM(B4:F4) -> 258 | H4: 53 | I4: =SUM(G4:H4) -> 311 | K4: Absolute majority | L4: =G4/2 -> 129
A5: 1st Distribution | B5: 6 | D5: 1 | E5: 5 | F5: 28
A6: Total | B6: =SUM(B4:B5) -> 84 | C6: =SUM(C4:C5) -> 40 | D6: =SUM(D4:D5) -> 43 | E6: =SUM(E4:E5) -> 103 | F6: =SUM(F4:F5) -> 28 | G6: =SUM(B6:F6) -> 298 | H6: =H4 -> 53 | I6: =SUM(G6:H6) -> 351
A7: 2nd Distribution | B7: 9 | E7: 4 | F7: 29
A8: Total | B8: =SUM(B6:B7) -> 93 | C8: =SUM(C6:C7) -> 40 | D8: =SUM(D6:D7) -> 43 | E8: =SUM(E6:E7) -> 107 | F8: =SUM(F6:F7) -> 57 | G8: =SUM(B8:F8) -> 340 | H8: =H4 -> 53 | I8: =SUM(G8:H8) -> 393

Sheet Wellbeing Officer - Overall
A1: WELLBEING OFFICER - OVERALL
A2: HOME
A3: Candidates | B3: TANG Jeffrey (SPARK) | C3: SETH Aaron (LIFT) | D3: HO Joshua (Social Justice) | E3: COCKERILL Lilia (REVIVE) | F3: Exhausted | G3: Valid Votes | H3: Informal | I3: Total Votes
A4: 1st Prefs | B4: ='Wellbeing Officer - OAK'!B4+'Wellbeing Officer - REID'!B4+'Wellbeing Officer - MOBILE'!B4 -> 1239 | C4: ='Wellbeing Officer - OAK'!C4+'Wellbeing Officer - REID'!C4+'Wellbeing Officer - MOBILE'!C4 -> 387 | D4: ='Wellbeing Officer - OAK'!D4+'Wellbeing Officer - REID'!D4+'Wellbeing Officer - MOBILE'!D4 -> 426 | E4: ='Wellbeing Officer - OAK'!E4+'Wellbeing Officer - REID'!E4+'Wellbeing Officer - MOBILE'!E4 -> 942 | F4: ='Wellbeing Officer - OAK'!F4+'Wellbeing Officer - REID'!F4+'Wellbeing Officer - MOBILE'!F4 -> 0 | G4: =SUM(B4:F4) -> 2994 | H4: ='Wellbeing Officer - OAK'!H4+'Wellbeing Officer - REID'!H4+'Pres. of Public Affairs - MOBIL'!H4 -> 172 | I4: =SUM(G4:H4) -> 3166 | K4: Absolute majority | L4: =G4/2 -> 1497
A5: 1st Distribution | B5: ='Wellbeing Officer - OAK'!B5+'Wellbeing Officer - REID'!B5+'Wellbeing Officer - MOBILE'!B5 -> 71 | C5: ='Wellbeing Officer - OAK'!C5+'Wellbeing Officer - REID'!C5+'Wellbeing Officer - MOBILE'!C5 -> 0 | D5: ='Wellbeing Officer - OAK'!D5+'Wellbeing Officer - REID'!D5+'Wellbeing Officer - MOBILE'!D5 -> 16 | E5: ='Wellbeing Officer - OAK'!E5+'Wellbeing Officer - REID'!E5+'Wellbeing Officer - MOBILE'!E5 -> 41 | F5: ='Wellbeing Officer - OAK'!F5+'Wellbeing Officer - REID'!F5+'Wellbeing Officer - MOBILE'!F5 -> 259 | G5: =SUM(B5:F5) -> 387 | I5: =SUM(G5:H5) -> 387
A6: Total | B6: ='Wellbeing Officer - OAK'!B6+'Wellbeing Officer - REID'!B6+'Wellbeing Officer - MOBILE'!B6 -> 1310 | C6: ='Wellbeing Officer - OAK'!C6+'Wellbeing Officer - REID'!C6+'Wellbeing Officer - MOBILE'!C6 -> 387 | D6: ='Wellbeing Officer - OAK'!D6+'Wellbeing Officer - REID'!D6+'Wellbeing Officer - MOBILE'!D6 -> 442 | E6: ='Wellbeing Officer - OAK'!E6+'Wellbeing Officer - REID'!E6+'Wellbeing Officer - MOBILE'!E6 -> 983 | F6: ='Wellbeing Officer - OAK'!F6+'Wellbeing Officer - REID'!F6+'Wellbeing Officer - MOBILE'!F6 -> 259 | G6: =SUM(B6:F6) -> 3381 | H6: =H4 -> 172 | I6: =SUM(G6:H6) -> 3553
A7: 2nd Distribution | B7: ='Wellbeing Officer - OAK'!B7+'Wellbeing Officer - REID'!B7+'Wellbeing Officer - MOBILE'!B7 -> 115 | C7: ='Wellbeing Officer - OAK'!C7+'Wellbeing Officer - REID'!C7+'Wellbeing Officer - MOBILE'!C7 -> 0 | D7: ='Wellbeing Officer - OAK'!D7+'Wellbeing Officer - REID'!D7+'Wellbeing Officer - MOBILE'!D7 -> 0 | E7: ='Wellbeing Officer - OAK'!E7+'Wellbeing Officer - REID'!E7+'Wellbeing Officer - MOBILE'!E7 -> 51 | F7: ='Wellbeing Officer - OAK'!F7+'Wellbeing Officer - REID'!F7+'Wellbeing Officer - MOBILE'!F7 -> 260 | G7: =SUM(B7:F7) -> 426 | I7: =SUM(G7:H7) -> 426
A8: Total | B8: =SUM(B6:B7) -> 1425 | C8: =SUM(C6:C7) -> 387 | D8: =SUM(D6:D7) -> 442 | E8: =SUM(E6:E7) -> 1034 | F8: =SUM(F6:F7) -> 519 | G8: =SUM(B8:F8) -> 3807 | H8: =H4 -> 172 | I8: =SUM(G8:H8) -> 3979

Sheet Women's Officer - OAK
A1: WOMEN'S OFFICER - OAK
A2: HOME
A3: Candidates | B3: MULVEY Claudia (Social Justice) | C3: TAROM Avina (REVIVE) | D3: BUTLER Bonnie (LIFT) | E3: MEMBRY Ruby (SPARK) | F3: Exhausted | G3: Valid Votes | H3: Informal | I3: Total Votes
A4: 1st Prefs | B4: 110 | C4: 176 | D4: 55 | E4: 236 | G4: =SUM(B4:F4) -> 577 | H4: 54 | I4: =SUM(G4:H4) -> 631 | K4: Absolute majority | L4: =G4/2 -> 288.5
A5: 1st Distribution | B5: 13 | C5: 7 | F5: 35
A6: Total | B6: =SUM(B4:B5) -> 123 | C6: =SUM(C4:C5) -> 183 | D6: =SUM(D4:D5) -> 55 | E6: =SUM(E4:E5) -> 236 | F6: =SUM(F4:F5) -> 35 | G6: =SUM(B6:F6) -> 632 | H6: =H4 -> 54 | I6: =SUM(G6:H6) -> 686
A7: 2nd Distribution | C7: 13 | E7: 30 | F7: 67
A8: Total | B8: =SUM(B6:B7) -> 123 | C8: =SUM(C6:C7) -> 196 | D8: =SUM(D6:D7) -> 55 | E8: =SUM(E6:E7) -> 266 | F8: =SUM(F6:F7) -> 102 | G8: =SUM(B8:F8) -> 742 | H8: =H4 -> 54 | I8: =SUM(G8:H8) -> 796

Sheet Women's Officer - REID
A1: WOMEN'S OFFICER - REID
A2: HOME
A3: Candidates | B3: MULVEY Claudia (Social Justice) | C3: TAROM Avina (REVIVE) | D3: BUTLER Bonnie (LIFT) | E3: MEMBRY Ruby (SPARK) | F3: Exhausted | G3: Valid Votes | H3: Informal | I3: Total Votes
A4: 1st Prefs | B4: 115 | C4: 238 | D4: 57 | E4: 319 | G4: =SUM(B4:F4) -> 729 | H4: 40 | I4: =SUM(G4:H4) -> 769 | K4: Absolute majority | L4: =G4/2 -> 364.5
A5: 1st Distribution | C5: 9 | E5: 15 | F5: 33
A6: Total | B6: =SUM(B4:B5) -> 115 | C6: =SUM(C4:C5) -> 247 | D6: =SUM(D4:D5) -> 57 | E6: =SUM(E4:E5) -> 334 | F6: =SUM(F4:F5) -> 33 | G6: =SUM(B6:F6) -> 786 | H6: =H4 -> 40 | I6: =SUM(G6:H6) -> 826
A7: 2nd Distribution | C7: 25 | E7: 26 | F7: 64
A8: Total | B8: =SUM(B6:B7) -> 115 | C8: =SUM(C6:C7) -> 272 | D8: =SUM(D6:D7) -> 57 | E8: =SUM(E6:E7) -> 360 | F8: =SUM(F6:F7) -> 97 | G8: =SUM(B8:F8) -> 901 | H8: =H4 -> 40 | I8: =SUM(G8:H8) -> 941

Sheet Women's Officer - MOBILE
A1: WOMEN'S OFFICER - MOBILE
A2: HOME
A3: Candidates | B3: MULVEY Claudia (Social Justice) | C3: TAROM Avina (REVIVE) | D3: BUTLER Bonnie (LIFT) | E3: MEMBRY Ruby (SPARK) | F3: Exhausted | G3: Valid Votes | H3: Informal | I3: Total Votes
A4: 1st Prefs | B4: 18 | C4: 45 | D4: 14 | E4: 42 | G4: =SUM(B4:F4) -> 119 | H4: 22 | I4: =SUM(G4:H4) -> 141 | K4: Absolute majority | L4: =G4/2 -> 59.5
A5: 1st Distribution | C5: 4 | F5: 10
A6: Total | B6: =SUM(B4:B5) -> 18 | C6: =SUM(C4:C5) -> 49 | D6: =SUM(D4:D5) -> 14 | E6: =SUM(E4:E5) -> 42 | F6: =SUM(F4:F5) -> 10 | G6: =SUM(B6:F6) -> 133 | H6: =H4 -> 22 | I6: =SUM(G6:H6) -> 155
A7: 2nd Distribution | C7: 2 | E7: 3 | F7: 13
A8: Total | B8: =SUM(B6:B7) -> 18 | C8: =SUM(C6:C7) -> 51 | D8: =SUM(D6:D7) -> 14 | E8: =SUM(E6:E7) -> 45 | F8: =SUM(F6:F7) -> 23 | G8: =SUM(B8:F8) -> 151 | H8: =H4 -> 22 | I8: =SUM(G8:H8) -> 173

Sheet Women's Officer - Overall
A1: WOMEN'S OFFICER - OVERALL
A2: HOME
A3: Candidates | B3: MULVEY Claudia (Social Justice) | C3: TAROM Avina (REVIVE) | D3: BUTLER Bonnie (LIFT) | E3: MEMBRY Ruby (SPARK) | F3: Exhausted | G3: Valid Votes | H3: Informal | I3: Total Votes
A4: 1st Prefs | B4: ='Women''s Officer - OAK'!B4+'Women''s Officer - REID'!B4+'Women''s Officer - MOBILE'!B4 -> 243 | C4: ='Women''s Officer - OAK'!C4+'Women''s Officer - REID'!C4+'Women''s Officer - MOBILE'!C4 -> 459 | D4: ='Women''s Officer - OAK'!D4+'Women''s Officer - REID'!D4+'Women''s Officer - MOBILE'!D4 -> 126 | E4: ='Women''s Officer - OAK'!E4+'Women''s Officer - REID'!E4+'Women''s Officer - MOBILE'!E4 -> 597 | F4: ='Women''s Officer - OAK'!F4+'Women''s Officer - REID'!F4+'Women''s Officer - MOBILE'!F4 -> 0 | G4: =SUM(B4:F4) -> 1425 | H4: ='Women''s Officer - OAK'!H4+'Women''s Officer - REID'!H4+'Women''s Officer - MOBILE'!H4 -> 116 | I4: =SUM(G4:H4) -> 1541 | K4: Absolute majority | L4: =G4/2 -> 712.5
A5: 1st Distribution | B5: ='Women''s Officer - OAK'!B5+'Women''s Officer - REID'!B5+'Women''s Officer - MOBILE'!B5 -> 13 | C5: ='Women''s Officer - OAK'!C5+'Women''s Officer - REID'!C5+'Women''s Officer - MOBILE'!C5 -> 20 | D5: ='Women''s Officer - OAK'!D5+'Women''s Officer - REID'!D5+'Women''s Officer - MOBILE'!D5 -> 0 | E5: ='Women''s Officer - OAK'!E5+'Women''s Officer - REID'!E5+'Women''s Officer - MOBILE'!E5 -> 15 | F5: ='Women''s Officer - OAK'!F5+'Women''s Officer - REID'!F5+'Women''s Officer - MOBILE'!F5 -> 78 | G5: =SUM(B5:F5) -> 126 | I5: =SUM(G5:H5) -> 126
A6: Total | B6: ='Women''s Officer - OAK'!B6+'Women''s Officer - REID'!B6+'Women''s Officer - MOBILE'!B6 -> 256 | C6: ='Women''s Officer - OAK'!C6+'Women''s Officer - REID'!C6+'Women''s Officer - MOBILE'!C6 -> 479 | D6: ='Women''s Officer - OAK'!D6+'Women''s Officer - REID'!D6+'Women''s Officer - MOBILE'!D6 -> 126 | E6: ='Women''s Officer - OAK'!E6+'Women''s Officer - REID'!E6+'Women''s Officer - MOBILE'!E6 -> 612 | F6: ='Women''s Officer - OAK'!F6+'Women''s Officer - REID'!F6+'Women''s Officer - MOBILE'!F6 -> 78 | G6: =SUM(B6:F6) -> 1551 | H6: =H4 -> 116 | I6: =SUM(G6:H6) -> 1667
A7: 2nd Distribution | B7: ='Women''s Officer - OAK'!B7+'Women''s Officer - REID'!B7+'Women''s Officer - MOBILE'!B7 -> 0 | C7: ='Women''s Officer - OAK'!C7+'Women''s Officer - REID'!C7+'Women''s Officer - MOBILE'!C7 -> 40 | D7: ='Women''s Officer - OAK'!D7+'Women''s Officer - REID'!D7+'Women''s Officer - MOBILE'!D7 -> 0 | E7: ='Women''s Officer - OAK'!E7+'Women''s Officer - REID'!E7+'Women''s Officer - MOBILE'!E7 -> 59 | F7: ='Women''s Officer - OAK'!F7+'Women''s Officer - REID'!F7+'Women''s Officer - MOBILE'!F7 -> 144 | G7: =SUM(B7:F7) -> 243 | I7: =SUM(G7:H7) -> 243
A8: Total | B8: =SUM(B6:B7) -> 256 | C8: =SUM(C6:C7) -> 519 | D8: =SUM(D6:D7) -> 126 | E8: =SUM(E6:E7) -> 671 | F8: =SUM(F6:F7) -> 222 | G8: =SUM(B8:F8) -> 1794 | H8: =H4 -> 116 | I8: =SUM(G8:H8) -> 1910

Sheet Pres. of Education Coun - OAK
A1: PRESIDENT OF EDUCATION COUNCIL - OAK
A2: HOME
A3: Candidates | B3: NEGUS Ben (REVIVE) | C3: GANNON Ciara (LIFT) | D3: WILLIAMS Jay (SPARK) | E3: GALLUCCIO Ed (Social Justice) | F3: Exhausted | G3: Valid Votes | H3: Informal | I3: Total Votes
A4: 1st Prefs | B4: 369 | C4: 157 | D4: 556 | E4: 136 | G4: =SUM(B4:F4) -> 1218 | H4: 131 | I4: =SUM(G4:H4) -> 1349 | K4: Absolute majority | L4: =G4/2 -> 609
A5: 1st Distribution | B5: 21 | D5: 26 | F5: 110
A6: Total | B6: =SUM(B4:B5) -> 390 | C6: =SUM(C4:C5) -> 157 | D6: =SUM(D4:D5) -> 582 | E6: =SUM(E4:E5) -> 136 | F6: =SUM(F4:F5) -> 110 | G6: =SUM(B6:F6) -> 1375 | H6: =H4 -> 131 | I6: =SUM(G6:H6) -> 1506
A7: 2nd Distribution | B7: 18 | D7: 28 | F7: 90
A8: Total | B8: =SUM(B6:B7) -> 408 | C8: =SUM(C6:C7) -> 157 | D8: =SUM(D6:D7) -> 610 | E8: =SUM(E6:E7) -> 136 | F8: =SUM(F6:F7) -> 200 | G8: =SUM(B8:F8) -> 1511 | H8: =H4 -> 131 | I8: =SUM(G8:H8) -> 1642

Sheet Pres. of Education Coun - REID
A1: PRESIDENT OF EDUCATION COUNCIL - REID
A2: HOME
A3: Candidates | B3: NEGUS Ben (REVIVE) | C3: GANNON Ciara (LIFT) | D3: WILLIAMS Jay (SPARK) | E3: GALLUCCIO Ed (Social Justice) | F3: Exhausted | G3: Valid Votes | H3: Informal | I3: Total Votes
A4: 1st Prefs | B4: 546 | C4: 167 | D4: 662 | E4: 144 | G4: =SUM(B4:F4) -> 1519 | H4: 98 | I4: =SUM(G4:H4) -> 1617 | K4: Absolute majority | L4: =G4/2 -> 759.5
A5: 1st Distribution | B5: 29 | D5: 36 | F5: 102
A6: Total | B6: =SUM(B4:B5) -> 575 | C6: =SUM(C4:C5) -> 167 | D6: =SUM(D4:D5) -> 698 | E6: =SUM(E4:E5) -> 144 | F6: =SUM(F4:F5) -> 102 | G6: =SUM(B6:F6) -> 1686 | H6: =H4 -> 98 | I6: =SUM(G6:H6) -> 1784
A7: 2nd Distribution | B7: 18 | D7: 34 | F7: 92
A8: Total | B8: =SUM(B6:B7) -> 593 | C8: =SUM(C6:C7) -> 167 | D8: =SUM(D6:D7) -> 732 | E8: =SUM(E6:E7) -> 144 | F8: =SUM(F6:F7) -> 194 | G8: =SUM(B8:F8) -> 1830 | H8: =H4 -> 98 | I8: =SUM(G8:H8) -> 1928

Sheet Pres. of Education Coun - MOBIL
A1: PRESIDENT OF EDUCATION COUNCIL - MOBILE
A2: HOME
A3: Candidates | B3: NEGUS Ben (REVIVE) | C3: GANNON Ciara (LIFT) | D3: WILLIAMS Jay (SPARK) | E3: GALLUCCIO Ed (Social Justice) | F3: Exhausted | G3: Valid Votes | H3: Informal | I3: Total Votes
A4: 1st Prefs | B4: 113 | C4: 38 | D4: 84 | E4: 28 | G4: =SUM(B4:F4) -> 263 | H4: 48 | I4: =SUM(G4:H4) -> 311 | K4: Absolute majority | L4: =G4/2 -> 131.5
A5: 1st Distribution | B5: 2 | D5: 9 | F5: 18
A6: Total | B6: =SUM(B4:B5) -> 115 | C6: =SUM(C4:C5) -> 38 | D6: =SUM(D4:D5) -> 93 | E6: =SUM(E4:E5) -> 28 | F6: =SUM(F4:F5) -> 18 | G6: =SUM(B6:F6) -> 292 | H6: =H4 -> 48 | I6: =SUM(G6:H6) -> 340
A7: 2nd Distribution | B7: 10 | D7: 1 | F7: 27
A8: Total | B8: =SUM(B6:B7) -> 125 | C8: =SUM(C6:C7) -> 38 | D8: =SUM(D6:D7) -> 94 | E8: =SUM(E6:E7) -> 28 | F8: =SUM(F6:F7) -> 45 | G8: =SUM(B8:F8) -> 330 | H8: =H4 -> 48 | I8: =SUM(G8:H8) -> 378

Sheet Pres. of Ed Coun - Overall
A1: PRESIDENT OF EDUCATION COUNCIL - OVERALL
A2: HOME
A3: Candidates | B3: NEGUS Ben (REVIVE) | C3: GANNON Ciara (LIFT) | D3: WILLIAMS Jay (SPARK) | E3: GALLUCCIO Ed (Social Justice) | F3: Exhausted | G3: Valid Votes | H3: Informal | I3: Total Votes
A4: 1st Prefs | B4: ='Pres. of Education Coun - OAK'!B4+'Pres. of Education Coun - REID'!B4+'Pres. of Education Coun - MOBIL'!B4 -> 1028 | C4: ='Pres. of Education Coun - OAK'!C4+'Pres. of Education Coun - REID'!C4+'Pres. of Education Coun - MOBIL'!C4 -> 362 | D4: ='Pres. of Education Coun - OAK'!D4+'Pres. of Education Coun - REID'!D4+'Pres. of Education Coun - MOBIL'!D4 -> 1302 | E4: ='Pres. of Education Coun - OAK'!E4+'Pres. of Education Coun - REID'!E4+'Pres. of Education Coun - MOBIL'!E4 -> 308 | F4: ='Pres. of Education Coun - OAK'!F4+'Pres. of Education Coun - REID'!F4+'Pres. of Education Coun - MOBIL'!F4 -> 0 | G4: =SUM(B4:F4) -> 3000 | H4: ='Pres. of Education Coun - OAK'!H4+'Pres. of Education Coun - REID'!H4+'Pres. of Education Coun - MOBIL'!H4 -> 277 | I4: =SUM(G4:H4) -> 3277 | K4: Absolute majority | L4: =G4/2 -> 1500
A5: 1st Distribution | B5: ='Pres. of Education Coun - OAK'!B5+'Pres. of Education Coun - REID'!B5+'Pres. of Education Coun - MOBIL'!B5 -> 52 | C5: ='Pres. of Education Coun - OAK'!C5+'Pres. of Education Coun - REID'!C5+'Pres. of Education Coun - MOBIL'!C5 -> 0 | D5: ='Pres. of Education Coun - OAK'!D5+'Pres. of Education Coun - REID'!D5+'Pres. of Education Coun - MOBIL'!D5 -> 71 | E5: ='Pres. of Education Coun - OAK'!E5+'Pres. of Education Coun - REID'!E5+'Pres. of Education Coun - MOBIL'!E5 -> 0 | F5: ='Pres. of Education Coun - OAK'!F5+'Pres. of Education Coun - REID'!F5+'Pres. of Education Coun - MOBIL'!F5 -> 230 | G5: =SUM(B5:F5) -> 353 | I5: =SUM(G5:H5) -> 353
A6: Total | B6: ='Pres. of Education Coun - OAK'!B6+'Pres. of Education Coun - REID'!B6+'Pres. of Education Coun - MOBIL'!B6 -> 1080 | C6: ='Pres. of Education Coun - OAK'!C6+'Pres. of Education Coun - REID'!C6+'Pres. of Education Coun - MOBIL'!C6 -> 362 | D6: ='Pres. of Education Coun - OAK'!D6+'Pres. of Education Coun - REID'!D6+'Pres. of Education Coun - MOBIL'!D6 -> 1373 | E6: ='Pres. of Education Coun - OAK'!E6+'Pres. of Education Coun - REID'!E6+'Pres. of Education Coun - MOBIL'!E6 -> 308 | F6: ='Pres. of Education Coun - OAK'!F6+'Pres. of Education Coun - REID'!F6+'Pres. of Education Coun - MOBIL'!F6 -> 230 | G6: =SUM(B6:F6) -> 3353 | H6: =H4 -> 277 | I6: =SUM(G6:H6) -> 3630
A7: 2nd Distribution | B7: ='Pres. of Education Coun - OAK'!B7+'Pres. of Education Coun - REID'!B7+'Pres. of Education Coun - MOBIL'!B7 -> 46 | C7: ='Pres. of Education Coun - OAK'!C7+'Pres. of Education Coun - REID'!C7+'Pres. of Education Coun - MOBIL'!C7 -> 0 | D7: ='Pres. of Education Coun - OAK'!D7+'Pres. of Education Coun - REID'!D7+'Pres. of Education Coun - MOBIL'!D7 -> 63 | E7: ='Pres. of Education Coun - OAK'!E7+'Pres. of Education Coun - REID'!E7+'Pres. of Education Coun - MOBIL'!E7 -> 0 | F7: ='Pres. of Education Coun - OAK'!F7+'Pres. of Education Coun - REID'!F7+'Pres. of Education Coun - MOBIL'!F7 -> 209 | G7: =SUM(B7:F7) -> 318 | I7: =SUM(G7:H7) -> 318
A8: Total | B8: =SUM(B6:B7) -> 1126 | C8: =SUM(C6:C7) -> 362 | D8: =SUM(D6:D7) -> 1436 | E8: =SUM(E6:E7) -> 308 | F8: =SUM(F6:F7) -> 439 | G8: =SUM(B8:F8) -> 3671 | H8: =H4 -> 277 | I8: =SUM(G8:H8) -> 3948

Sheet Environment Officer - OAK
A1: ENVIRONMENT OFFICER - OAK
A2: HOME
A3: Candidates | B3: BERTUOLA Chloe (LIFT) | C3: RAHN Hayley (Social Justice) | D3: HAFEEZ Shama (REVIVE) | E3: SUFFELL Julia (SPARK) | F3: Exhausted | G3: Valid Votes | H3: Informal | I3: Total Votes
A4: 1st Prefs | B4: 148 | C4: 204 | D4: 345 | E4: 460 | G4: =SUM(B4:F4) -> 1157 | H4: 160 | I4: =SUM(G4:H4) -> 1317 | K4: Absolute majority | L4: =G4/2 -> 578.5
A5: 1st Distribution | C5: 14 | D5: 15 | E5: 23 | F5: 96
A6: Total | B6: =SUM(B4:B5) -> 148 | C6: =SUM(C4:C5) -> 218 | D6: =SUM(D4:D5) -> 360 | E6: =SUM(E4:E5) -> 483 | F6: =SUM(F4:F5) -> 96 | G6: =SUM(B6:F6) -> 1305 | H6: =H4 -> 160 | I6: =SUM(G6:H6) -> 1465
A7: 2nd Distribution | D7: 27 | E7: 47 | F7: 130
A8: Total | B8: =SUM(B6:B7) -> 148 | C8: =SUM(C6:C7) -> 218 | D8: =SUM(D6:D7) -> 387 | E8: =SUM(E6:E7) -> 530 | F8: =SUM(F6:F7) -> 226 | G8: =SUM(B8:F8) -> 1509 | H8: =H4 -> 160 | I8: =SUM(G8:H8) -> 1669

Sheet Environment Officer - REID
A1: ENVIRONMENT OFFICER - REID
A2: HOME
A3: Candidates | B3: BERTUOLA Chloe (LIFT) | C3: RAHN Hayley (Social Justice) | D3: HAFEEZ Shama (REVIVE) | E3: SUFFELL Julia (SPARK) | F3: Exhausted | G3: Valid Votes | H3: Informal | I3: Total Votes
A4: 1st Prefs | B4: 165 | C4: 207 | D4: 518 | E4: 640 | G4: =SUM(B4:F4) -> 1530 | H4: 112 | I4: =SUM(G4:H4) -> 1642 | K4: Absolute majority | L4: =G4/2 -> 765
A5: 1st Distribution | C5: 18 | D5: 31 | E5: 27 | F5: 89
A6: Total | B6: =SUM(B4:B5) -> 165 | C6: =SUM(C4:C5) -> 225 | D6: =SUM(D4:D5) -> 549 | E6: =SUM(E4:E5) -> 667 | F6: =SUM(F4:F5) -> 89 | G6: =SUM(B6:F6) -> 1695 | H6: =H4 -> 112 | I6: =SUM(G6:H6) -> 1807
A7: 2nd Distribution | D7: 45 | E7: 50 | F7: 112
A8: Total | B8: =SUM(B6:B7) -> 165 | C8: =SUM(C6:C7) -> 225 | D8: =SUM(D6:D7) -> 594 | E8: =SUM(E6:E7) -> 717 | F8: =SUM(F6:F7) -> 201 | G8: =SUM(B8:F8) -> 1902 | H8: =H4 -> 112 | I8: =SUM(G8:H8) -> 2014

Sheet Environment Officer - MOBILE
A1: ENVIRONMENT OFFICER - MOBILE
A2: HOME
A3: Candidates | B3: BERTUOLA Chloe (LIFT) | C3: RAHN Hayley (Social Justice) | D3: HAFEEZ Shama (REVIVE) | E3: SUFFELL Julia (SPARK) | F3: Exhausted | G3: Valid Votes | H3: Informal | I3: Total Votes
A4: 1st Prefs | B4: 27 | C4: 41 | D4: 104 | E4: 80 | G4: =SUM(B4:F4) -> 252 | H4: 59 | I4: =SUM(G4:H4) -> 311 | K4: Absolute majority | L4: =G4/2 -> 126
A5: 1st Distribution | C5: 5 | D5: 5 | E5: 2 | F5: 15
A6: Total | B6: =SUM(B4:B5) -> 27 | C6: =SUM(C4:C5) -> 46 | D6: =SUM(D4:D5) -> 109 | E6: =SUM(E4:E5) -> 82 | F6: =SUM(F4:F5) -> 15 | G6: =SUM(B6:F6) -> 279 | H6: =H4 -> 59 | I6: =SUM(G6:H6) -> 338
A7: 2nd Distribution | D7: 5 | E7: 6 | F7: 30
A8: Total | B8: =SUM(B6:B7) -> 27 | C8: =SUM(C6:C7) -> 46 | D8: =SUM(D6:D7) -> 114 | E8: =SUM(E6:E7) -> 88 | F8: =SUM(F6:F7) -> 45 | G8: =SUM(B8:F8) -> 320 | H8: =H4 -> 59 | I8: =SUM(G8:H8) -> 379

Sheet Environment Officer - Overall
A1: ENVIRONMENT OFFICER - OVERALL
A2: HOME
A3: Candidates | B3: BERTUOLA Chloe (LIFT) | C3: RAHN Hayley (Social Justice) | D3: HAFEEZ Shama (REVIVE) | E3: SUFFELL Julia (SPARK) | F3: Exhausted | G3: Valid Votes | H3: Informal | I3: Total Votes
A4: 1st Prefs | B4: ='Environment Officer - OAK'!B4+'Environment Officer - REID'!B4+'Environment Officer - MOBILE'!B4 -> 340 | C4: ='Environment Officer - OAK'!C4+'Environment Officer - REID'!C4+'Environment Officer - MOBILE'!C4 -> 452 | D4: ='Environment Officer - OAK'!D4+'Environment Officer - REID'!D4+'Environment Officer - MOBILE'!D4 -> 967 | E4: ='Environment Officer - OAK'!E4+'Environment Officer - REID'!E4+'Environment Officer - MOBILE'!E4 -> 1180 | F4: ='Environment Officer - OAK'!F4+'Environment Officer - REID'!F4+'Environment Officer - MOBILE'!F4 -> 0 | G4: =SUM(B4:F4) -> 2939 | H4: ='Environment Officer - OAK'!H4+'Environment Officer - REID'!H4+'Environment Officer - MOBILE'!H4 -> 331 | I4: =SUM(G4:H4) -> 3270 | K4: Absolute majority | L4: =G4/2 -> 1469.5
A5: 1st Distribution | B5: ='Environment Officer - OAK'!B5+'Environment Officer - REID'!B5+'Environment Officer - MOBILE'!B5 -> 0 | C5: ='Environment Officer - OAK'!C5+'Environment Officer - REID'!C5+'Environment Officer - MOBILE'!C5 -> 37 | D5: ='Environment Officer - OAK'!D5+'Environment Officer - REID'!D5+'Environment Officer - MOBILE'!D5 -> 51 | E5: ='Environment Officer - OAK'!E5+'Environment Officer - REID'!E5+'Environment Officer - MOBILE'!E5 -> 52 | F5: ='Environment Officer - OAK'!F5+'Environment Officer - REID'!F5+'Environment Officer - MOBILE'!F5 -> 200 | G5: =SUM(B5:F5) -> 340 | I5: =SUM(G5:H5) -> 340
A6: Total | B6: ='Environment Officer - OAK'!B6+'Environment Officer - REID'!B6+'Environment Officer - MOBILE'!B6 -> 340 | C6: ='Environment Officer - OAK'!C6+'Environment Officer - REID'!C6+'Environment Officer - MOBILE'!C6 -> 489 | D6: ='Environment Officer - OAK'!D6+'Environment Officer - REID'!D6+'Environment Officer - MOBILE'!D6 -> 1018 | E6: ='Environment Officer - OAK'!E6+'Environment Officer - REID'!E6+'Environment Officer - MOBILE'!E6 -> 1232 | F6: ='Environment Officer - OAK'!F6+'Environment Officer - REID'!F6+'Environment Officer - MOBILE'!F6 -> 200 | G6: =SUM(B6:F6) -> 3279 | H6: =H4 -> 331 | I6: =SUM(G6:H6) -> 3610
A7: 2nd Distribution | B7: ='Environment Officer - OAK'!B7+'Environment Officer - REID'!B7+'Environment Officer - MOBILE'!B7 -> 0 | C7: ='Environment Officer - OAK'!C7+'Environment Officer - REID'!C7+'Environment Officer - MOBILE'!C7 -> 0 | D7: ='Environment Officer - OAK'!D7+'Environment Officer - REID'!D7+'Environment Officer - MOBILE'!D7 -> 77 | E7: ='Environment Officer - OAK'!E7+'Environment Officer - REID'!E7+'Environment Officer - MOBILE'!E7 -> 103 | F7: ='Environment Officer - OAK'!F7+'Environment Officer - REID'!F7+'Environment Officer - MOBILE'!F7 -> 272 | G7: =SUM(B7:F7) -> 452 | I7: =SUM(G7:H7) -> 452
A8: Total | B8: =SUM(B6:B7) -> 340 | C8: =SUM(C6:C7) -> 489 | D8: =SUM(D6:D7) -> 1095 | E8: =SUM(E6:E7) -> 1335 | F8: =SUM(F6:F7) -> 472 | G8: =SUM(B8:F8) -> 3731 | H8: =H4 -> 331 | I8: =SUM(G8:H8) -> 4062

Sheet International Students - OAK
A1: INTERNATIONAL STUDENTS' DEPT. PRESIDENT - OAK
A2: HOME
A3: Candidates | B3: MENON Archit (GLOBAL) | C3: ROBERTS Chloe (Social Justice) | D3: REHAM Redwan (AMITY) | E3: Exhausted | F3: Valid Votes | G3: Informal | H3: Total Votes
A4: 1st Prefs | B4: 326 | C4: 78 | D4: 89 | F4: =SUM(B4:E4) -> 493 | G4: 46 | H4: =SUM(F4:G4) -> 539 | J4: Absolute majority | K4: =F4/2 -> 246.5
A5: 1st Distribution
A6: Total | B6: =SUM(B4:B5) -> 326 | C6: =SUM(C4:C5) -> 78 | D6: =SUM(D4:D5) -> 89 | E6: =SUM(E4:E5) -> 0 | F6: =SUM(B6:E6) -> 493 | G6: =G4 -> 46 | H6: =SUM(F6:G6) -> 539

Sheet International Students - REID
A1: INTERNATIONAL STUDENTS' DEPT. PRESIDENT - REID
A2: HOME
A3: Candidates | B3: MENON Archit (GLOBAL) | C3: ROBERTS Chloe (Social Justice) | D3: REHAM Redwan (AMITY) | E3: Exhausted | F3: Valid Votes | G3: Informal | H3: Total Votes
A4: 1st Prefs | B4: 348 | C4: 100 | D4: 84 | F4: =SUM(B4:E4) -> 532 | G4: 43 | H4: =SUM(F4:G4) -> 575 | J4: Absolute majority | K4: =F4/2 -> 266
A5: 1st Distribution
A6: Total | B6: =SUM(B4:B5) -> 348 | C6: =SUM(C4:C5) -> 100 | D6: =SUM(D4:D5) -> 84 | E6: =SUM(E4:E5) -> 0 | F6: =SUM(B6:E6) -> 532 | G6: =G4 -> 43 | H6: =SUM(F6:G6) -> 575

Sheet International Students - MOBILE
A1: INTERNATIONAL STUDENTS' DEPT. PRESIDENT - MOBILE
A2: HOME
A3: Candidates | B3: MENON Archit (GLOBAL) | C3: ROBERTS Chloe (Social Justice) | D3: REHAM Redwan (AMITY) | E3: Exhausted | F3: Valid Votes | G3: Informal | H3: Total Votes
A4: 1st Prefs | B4: 54 | C4: 30 | D4: 22 | F4: =SUM(B4:E4) -> 106 | G4: 18 | H4: =SUM(F4:G4) -> 124 | J4: Absolute majority | K4: =F4/2 -> 53
A5: 1st Distribution
A6: Total | B6: =SUM(B4:B5) -> 54 | C6: =SUM(C4:C5) -> 30 | D6: =SUM(D4:D5) -> 22 | E6: =SUM(E4:E5) -> 0 | F6: =SUM(B6:E6) -> 106 | G6: =G4 -> 18 | H6: =SUM(F6:G6) -> 124

Sheet International Students- Overall
A1: INTERNATIONAL STUDENTS' DEPT. PRESIDENT - OVERALL
A2: HOME
A3: Candidates | B3: MENON Archit (GLOBAL) | C3: ROBERTS Chloe (Social Justice) | D3: REHAM Redwan (AMITY) | F3: Exhausted | G3: Valid Votes | H3: Informal | I3: Total Votes
A4: 1st Prefs | B4: ='International Students - OAK'!B4+'International Students - REID'!B4+'International Students - MOBILE'!B4 -> 728 | C4: ='International Students - OAK'!C4+'International Students - REID'!C4+'International Students - MOBILE'!C4 -> 208 | D4: ='International Students - OAK'!D4+'International Students - REID'!D4+'International Students - MOBILE'!D4 -> 195 | E4: ='International Students - OAK'!E4+'International Students - REID'!E4+'International Students - MOBILE'!E4 -> 0 | I4: =SUM(G4:H4) -> 0 | K4: Absolute majority | L4: 566.5
A5: 1st Distribution | B5: ='International Students - OAK'!B5+'International Students - REID'!B5+'International Students - MOBILE'!B5 -> 0 | C5: ='International Students - OAK'!C5+'International Students - REID'!C5+'International Students - MOBILE'!C5 -> 0 | D5: ='International Students - OAK'!D5+'International Students - REID'!D5+'International Students - MOBILE'!D5 -> 0 | E5: ='International Students - OAK'!E5+'International Students - REID'!E5+'International Students - MOBILE'!E5 -> 0 | F5: ='International Students - OAK'!F5+'International Students - REID'!F5+'International Students - MOBILE'!F5 -> 0 | G5: =SUM(B5:F5) -> 0 | I5: =SUM(G5:H5) -> 0
A6: Total | B6: =SUM(B4:B5) -> 728 | C6: =SUM(C4:C5) -> 208 | D6: =SUM(D4:D5) -> 195 | E6: =SUM(E4:E5) -> 0 | F6: =SUM(F4:F5) -> 0 | G6: =SUM(B6:F6) -> 1131 | H6: =H4 -> 0 | I6: =SUM(G6:H6) -> 1131
